BEGIN:VCALENDAR
VERSION:2.0
PRODID:-//OHIO811 | Call 811 Before You Dig | OHIO811 - ECPv6.15.20//NONSGML v1.0//EN
CALSCALE:GREGORIAN
METHOD:PUBLISH
X-WR-CALNAME:OHIO811 | Call 811 Before You Dig | OHIO811
X-ORIGINAL-URL:https://oups.org
X-WR-CALDESC:Events for OHIO811 | Call 811 Before You Dig | OHIO811
REFRESH-INTERVAL;VALUE=DURATION:PT1H
X-Robots-Tag:noindex
X-PUBLISHED-TTL:PT1H
BEGIN:VTIMEZONE
TZID:UTC
BEGIN:STANDARD
TZOFFSETFROM:+0000
TZOFFSETTO:+0000
TZNAME:UTC
DTSTART:20250101T000000
END:STANDARD
END:VTIMEZONE
BEGIN:VEVENT
DTSTART;VALUE=DATE:20260304
DTEND;VALUE=DATE:20260507
DTSTAMP:20260422T021938
CREATED:20260123T155156Z
LAST-MODIFIED:20260123T155156Z
UID:10015409-1772582400-1778111999@oups.org
SUMMARY:Ohio Oil & Gas Association Annual Meeting
DESCRIPTION:
URL:https://oups.org/event/ohio-oil-gas-association-annual-meeting/
LOCATION:Hilton Columbus at Easton\, 3900 Chagrin Dr\, Columbus\, OH\, 43219
CATEGORIES:Trade Show
END:VEVENT
BEGIN:VEVENT
DTSTART;VALUE=DATE:20260422
DTEND;VALUE=DATE:20260423
DTSTAMP:20260422T021938
CREATED:20260212T185510Z
LAST-MODIFIED:20260212T185510Z
UID:10015423-1776816000-1776902399@oups.org
SUMMARY:2nd Annual CODPC Utility Expo Safe Dig Month Event
DESCRIPTION:
URL:https://oups.org/event/2nd-annual-codpc-utility-expo-safe-dig-month-event/
LOCATION:OH
CATEGORIES:Damage Prevention Council
END:VEVENT
BEGIN:VEVENT
DTSTART;TZID=UTC:20260422T090000
DTEND;TZID=UTC:20260422T100000
DTSTAMP:20260422T021938
CREATED:20200228T194335Z
LAST-MODIFIED:20200318T143220Z
UID:10001299-1776848400-1776852000@oups.org
SUMMARY:Richland County Utility Coordinating Councils
DESCRIPTION:
URL:https://oups.org/event/richland-county-utility-coordinating-councils-2020-07-22/2026-04-22/
LOCATION:Columbia Gas of Ohio\, 1021 N Main St\, Mansfield\, OH\, 44903\, United States
CATEGORIES:Utility Coordinating Council
ORGANIZER;CN="Chuck Green":MAILTO:chuckg@oups.org
END:VEVENT
END:VCALENDAR