BEGIN:VCALENDAR
VERSION:2.0
PRODID:-//OHIO811 | Call 811 Before You Dig | OHIO811 - ECPv6.15.20//NONSGML v1.0//EN
CALSCALE:GREGORIAN
METHOD:PUBLISH
X-ORIGINAL-URL:https://oups.org
X-WR-CALDESC:Events for OHIO811 | Call 811 Before You Dig | OHIO811
REFRESH-INTERVAL;VALUE=DURATION:PT1H
X-Robots-Tag:noindex
X-PUBLISHED-TTL:PT1H
BEGIN:VTIMEZONE
TZID:UTC
BEGIN:STANDARD
TZOFFSETFROM:+0000
TZOFFSETTO:+0000
TZNAME:UTC
DTSTART:20250101T000000
END:STANDARD
END:VTIMEZONE
BEGIN:VEVENT
DTSTART;TZID=UTC:20260121T090000
DTEND;TZID=UTC:20260121T100000
DTSTAMP:20260426T035114
CREATED:20200228T194029Z
LAST-MODIFIED:20200318T143247Z
UID:10001053-1768986000-1768989600@oups.org
SUMMARY:Northwest Quad Utility Coordinating Council
DESCRIPTION:
URL:https://oups.org/event/northwest-quad-utility-coordinating-council/2026-01-21/
LOCATION:Bryan Municipal Builiding\, 1399 E High St\, Bryan\, OH\, 45242\, United States
CATEGORIES:Utility Coordinating Council
ORGANIZER;CN="Jack Bennett":MAILTO:jackb@oups.org
END:VEVENT
BEGIN:VEVENT
DTSTART;TZID=UTC:20260128T090000
DTEND;TZID=UTC:20260128T100000
DTSTAMP:20260426T035114
CREATED:20200228T194335Z
LAST-MODIFIED:20200318T143220Z
UID:10001298-1769590800-1769594400@oups.org
SUMMARY:Richland County Utility Coordinating Councils
DESCRIPTION:
URL:https://oups.org/event/richland-county-utility-coordinating-councils-2020-07-22/2026-01-28/
LOCATION:Columbia Gas of Ohio\, 1021 N Main St\, Mansfield\, OH\, 44903\, United States
CATEGORIES:Utility Coordinating Council
ORGANIZER;CN="Chuck Green":MAILTO:chuckg@oups.org
END:VEVENT
END:VCALENDAR