BEGIN:VCALENDAR
VERSION:2.0
PRODID:-//OHIO811 | Call 811 Before You Dig | OHIO811 - ECPv6.15.20//NONSGML v1.0//EN
CALSCALE:GREGORIAN
METHOD:PUBLISH
X-ORIGINAL-URL:https://oups.org
X-WR-CALDESC:Events for OHIO811 | Call 811 Before You Dig | OHIO811
REFRESH-INTERVAL;VALUE=DURATION:PT1H
X-Robots-Tag:noindex
X-PUBLISHED-TTL:PT1H
BEGIN:VTIMEZONE
TZID:UTC
BEGIN:STANDARD
TZOFFSETFROM:+0000
TZOFFSETTO:+0000
TZNAME:UTC
DTSTART:20280101T000000
END:STANDARD
END:VTIMEZONE
BEGIN:VEVENT
DTSTART;TZID=UTC:20290501T130000
DTEND;TZID=UTC:20290501T140000
DTSTAMP:20260425T133357
CREATED:20200228T192929Z
LAST-MODIFIED:20211207T134238Z
UID:10001436-1872334800-1872338400@oups.org
SUMMARY:Southwest Ohio Utility Safety Council
DESCRIPTION:
URL:https://oups.org/event/southwest-ohio-utility-safety-council-2020-05-05/2029-05-01/
LOCATION:Symmes Township Facility\, 8871 Weekly Ln\, Cincinnati\, OH\, 45249\, United States
CATEGORIES:Damage Prevention Council
END:VEVENT
BEGIN:VEVENT
DTSTART;TZID=UTC:20290502T093000
DTEND;TZID=UTC:20290502T103000
DTSTAMP:20260425T133357
CREATED:20241220T154627Z
LAST-MODIFIED:20241220T155629Z
UID:10001641-1872408600-1872412200@oups.org
SUMMARY:Northern Ohio Damage Prevention Council
DESCRIPTION:
URL:https://oups.org/event/northern-ohio-damage-prevention-council/2029-05-02/
LOCATION:City of Independence Civic Center\, 6363 Selig Blvd\, Cleveland\, 44131
CATEGORIES:Damage Prevention Council
ORGANIZER;CN="Chuck Green":MAILTO:chuckg@oups.org
END:VEVENT
BEGIN:VEVENT
DTSTART;TZID=UTC:20290509T090000
DTEND;TZID=UTC:20290509T100000
DTSTAMP:20260425T133357
CREATED:20250630T174411Z
LAST-MODIFIED:20250630T175622Z
UID:10015197-1873011600-1873015200@oups.org
SUMMARY:Miami Valley Utility Safety Council
DESCRIPTION:
URL:https://oups.org/event/1miami-valley-utility-safety-council/2029-05-09/
LOCATION:Montgomery County Water Services\, 1850 Spaulding Ave\, Kettering\, OH\, 45432\, United States
CATEGORIES:Damage Prevention Council
ORGANIZER;CN="David Gilland":MAILTO:davidg@oups.org
END:VEVENT
BEGIN:VEVENT
DTSTART;TZID=UTC:20290510T110000
DTEND;TZID=UTC:20290510T120000
DTSTAMP:20260425T133357
CREATED:20200228T192710Z
LAST-MODIFIED:20211109T131051Z
UID:10001438-1873105200-1873108800@oups.org
SUMMARY:Northwest Ohio Damage Prevention Council
DESCRIPTION:
URL:https://oups.org/event/northwest-ohio-damage-prevention-council-2020-05-14/2029-05-10/
LOCATION:Toledo Edison\, 6099 Angola Rd\, Holland\, OH\, 43528\, United States
CATEGORIES:Damage Prevention Council
ORGANIZER;CN="Jack Bennett":MAILTO:jackb@oups.org
END:VEVENT
BEGIN:VEVENT
DTSTART;TZID=UTC:20290516T090000
DTEND;TZID=UTC:20290516T100000
DTSTAMP:20260425T133357
CREATED:20250923T164606Z
LAST-MODIFIED:20250923T170413Z
UID:10015348-1873616400-1873620000@oups.org
SUMMARY:Central Ohio Damage Prevention Council
DESCRIPTION:
URL:https://oups.org/event/central-ohio-damage-prevention-council-2020-05-20-2/2029-05-16/
LOCATION:The Builders Exchange\, 1175 Dublin Rd\, Columbus\, OH\, 43215\, United States
CATEGORIES:Damage Prevention Council
END:VEVENT
BEGIN:VEVENT
DTSTART;TZID=UTC:20290524T093000
DTEND;TZID=UTC:20290524T103000
DTSTAMP:20260425T133357
CREATED:20200227T175954Z
LAST-MODIFIED:20241220T154315Z
UID:10001440-1874309400-1874313000@oups.org
SUMMARY:Eastern Ohio Damage Prevention Council
DESCRIPTION:
URL:https://oups.org/event/eastern-ohio-damage-prevention-council-2020-04-23-2020-05-28-2022-04-28/2029-05-24/
LOCATION:OHIO811\, 12467 Mahoning Ave\, North Jackson\, OH\, 44451\, United States
CATEGORIES:Damage Prevention Council
ORGANIZER;CN="Matt Hennis":MAILTO:matth@oups.org
END:VEVENT
BEGIN:VEVENT
DTSTART;TZID=UTC:20290605T090000
DTEND;TZID=UTC:20290605T100000
DTSTAMP:20260425T133357
CREATED:20200228T194701Z
LAST-MODIFIED:20200601T134544Z
UID:10001441-1875344400-1875348000@oups.org
SUMMARY:Stark County Utility Coordinating Council
DESCRIPTION:
URL:https://oups.org/event/stark-county-utility-coordinating-council/2029-06-05/
LOCATION:Beaver Excavating\, 2000 Beaver Place Ave SW\, Canton\, OH\, 45242\, United States
CATEGORIES:Utility Coordinating Council
ORGANIZER;CN="Matt Hennis":MAILTO:matth@oups.org
END:VEVENT
BEGIN:VEVENT
DTSTART;TZID=UTC:20290605T130000
DTEND;TZID=UTC:20290605T140000
DTSTAMP:20260425T133357
CREATED:20200228T192929Z
LAST-MODIFIED:20211207T134238Z
UID:10001442-1875358800-1875362400@oups.org
SUMMARY:Southwest Ohio Utility Safety Council
DESCRIPTION:
URL:https://oups.org/event/southwest-ohio-utility-safety-council-2020-05-05/2029-06-05/
LOCATION:Symmes Township Facility\, 8871 Weekly Ln\, Cincinnati\, OH\, 45249\, United States
CATEGORIES:Damage Prevention Council
END:VEVENT
BEGIN:VEVENT
DTSTART;TZID=UTC:20290606T093000
DTEND;TZID=UTC:20290606T103000
DTSTAMP:20260425T133357
CREATED:20241220T154627Z
LAST-MODIFIED:20241220T155629Z
UID:10001642-1875432600-1875436200@oups.org
SUMMARY:Northern Ohio Damage Prevention Council
DESCRIPTION:
URL:https://oups.org/event/northern-ohio-damage-prevention-council/2029-06-06/
LOCATION:City of Independence Civic Center\, 6363 Selig Blvd\, Cleveland\, 44131
CATEGORIES:Damage Prevention Council
ORGANIZER;CN="Chuck Green":MAILTO:chuckg@oups.org
END:VEVENT
BEGIN:VEVENT
DTSTART;TZID=UTC:20290613T090000
DTEND;TZID=UTC:20290613T100000
DTSTAMP:20260425T133357
CREATED:20250630T174411Z
LAST-MODIFIED:20250630T175622Z
UID:10015198-1876035600-1876039200@oups.org
SUMMARY:Miami Valley Utility Safety Council
DESCRIPTION:
URL:https://oups.org/event/1miami-valley-utility-safety-council/2029-06-13/
LOCATION:Montgomery County Water Services\, 1850 Spaulding Ave\, Kettering\, OH\, 45432\, United States
CATEGORIES:Damage Prevention Council
ORGANIZER;CN="David Gilland":MAILTO:davidg@oups.org
END:VEVENT
BEGIN:VEVENT
DTSTART;TZID=UTC:20290614T110000
DTEND;TZID=UTC:20290614T120000
DTSTAMP:20260425T133357
CREATED:20200228T192710Z
LAST-MODIFIED:20211109T131051Z
UID:10001447-1876129200-1876132800@oups.org
SUMMARY:Northwest Ohio Damage Prevention Council
DESCRIPTION:
URL:https://oups.org/event/northwest-ohio-damage-prevention-council-2020-05-14/2029-06-14/
LOCATION:Toledo Edison\, 6099 Angola Rd\, Holland\, OH\, 43528\, United States
CATEGORIES:Damage Prevention Council
ORGANIZER;CN="Jack Bennett":MAILTO:jackb@oups.org
END:VEVENT
BEGIN:VEVENT
DTSTART;TZID=UTC:20290620T090000
DTEND;TZID=UTC:20290620T100000
DTSTAMP:20260425T133357
CREATED:20250923T164606Z
LAST-MODIFIED:20250923T170413Z
UID:10015349-1876640400-1876644000@oups.org
SUMMARY:Central Ohio Damage Prevention Council
DESCRIPTION:
URL:https://oups.org/event/central-ohio-damage-prevention-council-2020-05-20-2/2029-06-20/
LOCATION:The Builders Exchange\, 1175 Dublin Rd\, Columbus\, OH\, 43215\, United States
CATEGORIES:Damage Prevention Council
END:VEVENT
BEGIN:VEVENT
DTSTART;TZID=UTC:20290628T093000
DTEND;TZID=UTC:20290628T103000
DTSTAMP:20260425T133357
CREATED:20200227T175954Z
LAST-MODIFIED:20241220T154315Z
UID:10001453-1877333400-1877337000@oups.org
SUMMARY:Eastern Ohio Damage Prevention Council
DESCRIPTION:
URL:https://oups.org/event/eastern-ohio-damage-prevention-council-2020-04-23-2020-05-28-2022-04-28/2029-06-28/
LOCATION:OHIO811\, 12467 Mahoning Ave\, North Jackson\, OH\, 44451\, United States
CATEGORIES:Damage Prevention Council
ORGANIZER;CN="Matt Hennis":MAILTO:matth@oups.org
END:VEVENT
BEGIN:VEVENT
DTSTART;TZID=UTC:20290703T130000
DTEND;TZID=UTC:20290703T140000
DTSTAMP:20260425T133357
CREATED:20200228T192929Z
LAST-MODIFIED:20211207T134238Z
UID:10001455-1877778000-1877781600@oups.org
SUMMARY:Southwest Ohio Utility Safety Council
DESCRIPTION:
URL:https://oups.org/event/southwest-ohio-utility-safety-council-2020-05-05/2029-07-03/
LOCATION:Symmes Township Facility\, 8871 Weekly Ln\, Cincinnati\, OH\, 45249\, United States
CATEGORIES:Damage Prevention Council
END:VEVENT
BEGIN:VEVENT
DTSTART;TZID=UTC:20290704T093000
DTEND;TZID=UTC:20290704T103000
DTSTAMP:20260425T133357
CREATED:20241220T154627Z
LAST-MODIFIED:20241220T155629Z
UID:10001643-1877851800-1877855400@oups.org
SUMMARY:Northern Ohio Damage Prevention Council
DESCRIPTION:
URL:https://oups.org/event/northern-ohio-damage-prevention-council/2029-07-04/
LOCATION:City of Independence Civic Center\, 6363 Selig Blvd\, Cleveland\, 44131
CATEGORIES:Damage Prevention Council
ORGANIZER;CN="Chuck Green":MAILTO:chuckg@oups.org
END:VEVENT
BEGIN:VEVENT
DTSTART;TZID=UTC:20290711T090000
DTEND;TZID=UTC:20290711T100000
DTSTAMP:20260425T133357
CREATED:20250630T174411Z
LAST-MODIFIED:20250630T175622Z
UID:10015199-1878454800-1878458400@oups.org
SUMMARY:Miami Valley Utility Safety Council
DESCRIPTION:
URL:https://oups.org/event/1miami-valley-utility-safety-council/2029-07-11/
LOCATION:Montgomery County Water Services\, 1850 Spaulding Ave\, Kettering\, OH\, 45432\, United States
CATEGORIES:Damage Prevention Council
ORGANIZER;CN="David Gilland":MAILTO:davidg@oups.org
END:VEVENT
BEGIN:VEVENT
DTSTART;TZID=UTC:20290712T110000
DTEND;TZID=UTC:20290712T120000
DTSTAMP:20260425T133357
CREATED:20200228T192710Z
LAST-MODIFIED:20211109T131051Z
UID:10001448-1878548400-1878552000@oups.org
SUMMARY:Northwest Ohio Damage Prevention Council
DESCRIPTION:
URL:https://oups.org/event/northwest-ohio-damage-prevention-council-2020-05-14/2029-07-12/
LOCATION:Toledo Edison\, 6099 Angola Rd\, Holland\, OH\, 43528\, United States
CATEGORIES:Damage Prevention Council
ORGANIZER;CN="Jack Bennett":MAILTO:jackb@oups.org
END:VEVENT
BEGIN:VEVENT
DTSTART;TZID=UTC:20290718T090000
DTEND;TZID=UTC:20290718T100000
DTSTAMP:20260425T133357
CREATED:20200228T194029Z
LAST-MODIFIED:20200318T143247Z
UID:10001449-1879059600-1879063200@oups.org
SUMMARY:Northwest Quad Utility Coordinating Council
DESCRIPTION:
URL:https://oups.org/event/northwest-quad-utility-coordinating-council/2029-07-18/
LOCATION:Bryan Municipal Builiding\, 1399 E High St\, Bryan\, OH\, 45242\, United States
CATEGORIES:Utility Coordinating Council
ORGANIZER;CN="Jack Bennett":MAILTO:jackb@oups.org
END:VEVENT
BEGIN:VEVENT
DTSTART;TZID=UTC:20290718T090000
DTEND;TZID=UTC:20290718T100000
DTSTAMP:20260425T133357
CREATED:20250923T164606Z
LAST-MODIFIED:20250923T170413Z
UID:10015350-1879059600-1879063200@oups.org
SUMMARY:Central Ohio Damage Prevention Council
DESCRIPTION:
URL:https://oups.org/event/central-ohio-damage-prevention-council-2020-05-20-2/2029-07-18/
LOCATION:The Builders Exchange\, 1175 Dublin Rd\, Columbus\, OH\, 43215\, United States
CATEGORIES:Damage Prevention Council
END:VEVENT
BEGIN:VEVENT
DTSTART;TZID=UTC:20290725T090000
DTEND;TZID=UTC:20290725T100000
DTSTAMP:20260425T133357
CREATED:20200228T194335Z
LAST-MODIFIED:20200318T143220Z
UID:10001452-1879664400-1879668000@oups.org
SUMMARY:Richland County Utility Coordinating Councils
DESCRIPTION:
URL:https://oups.org/event/richland-county-utility-coordinating-councils-2020-07-22/2029-07-25/
LOCATION:Columbia Gas of Ohio\, 1021 N Main St\, Mansfield\, OH\, 44903\, United States
CATEGORIES:Utility Coordinating Council
ORGANIZER;CN="Chuck Green":MAILTO:chuckg@oups.org
END:VEVENT
BEGIN:VEVENT
DTSTART;TZID=UTC:20290726T093000
DTEND;TZID=UTC:20290726T103000
DTSTAMP:20260425T133357
CREATED:20200227T175954Z
LAST-MODIFIED:20241220T154315Z
UID:10001454-1879752600-1879756200@oups.org
SUMMARY:Eastern Ohio Damage Prevention Council
DESCRIPTION:
URL:https://oups.org/event/eastern-ohio-damage-prevention-council-2020-04-23-2020-05-28-2022-04-28/2029-07-26/
LOCATION:OHIO811\, 12467 Mahoning Ave\, North Jackson\, OH\, 44451\, United States
CATEGORIES:Damage Prevention Council
ORGANIZER;CN="Matt Hennis":MAILTO:matth@oups.org
END:VEVENT
BEGIN:VEVENT
DTSTART;TZID=UTC:20290801T093000
DTEND;TZID=UTC:20290801T103000
DTSTAMP:20260425T133357
CREATED:20241220T154627Z
LAST-MODIFIED:20241220T155629Z
UID:10001644-1880271000-1880274600@oups.org
SUMMARY:Northern Ohio Damage Prevention Council
DESCRIPTION:
URL:https://oups.org/event/northern-ohio-damage-prevention-council/2029-08-01/
LOCATION:City of Independence Civic Center\, 6363 Selig Blvd\, Cleveland\, 44131
CATEGORIES:Damage Prevention Council
ORGANIZER;CN="Chuck Green":MAILTO:chuckg@oups.org
END:VEVENT
BEGIN:VEVENT
DTSTART;TZID=UTC:20290807T090000
DTEND;TZID=UTC:20290807T100000
DTSTAMP:20260425T133357
CREATED:20200228T193309Z
LAST-MODIFIED:20200318T143155Z
UID:10001519-1880787600-1880791200@oups.org
SUMMARY:Southeast Ohio Utility Coordinating Council
DESCRIPTION:
URL:https://oups.org/event/southeast-ohio-utility-coordinating-council/2029-08-07/
LOCATION:Washington Electric Cooperative\, 440 Highland Ridge Rd\, Marietta\, OH\, 45750\, United States
CATEGORIES:Utility Coordinating Council
ORGANIZER;CN="Matt Hennis":MAILTO:matth@oups.org
END:VEVENT
BEGIN:VEVENT
DTSTART;TZID=UTC:20290807T130000
DTEND;TZID=UTC:20290807T140000
DTSTAMP:20260425T133357
CREATED:20200228T192929Z
LAST-MODIFIED:20211207T134238Z
UID:10001504-1880802000-1880805600@oups.org
SUMMARY:Southwest Ohio Utility Safety Council
DESCRIPTION:
URL:https://oups.org/event/southwest-ohio-utility-safety-council-2020-05-05/2029-08-07/
LOCATION:Symmes Township Facility\, 8871 Weekly Ln\, Cincinnati\, OH\, 45249\, United States
CATEGORIES:Damage Prevention Council
END:VEVENT
BEGIN:VEVENT
DTSTART;TZID=UTC:20290808T090000
DTEND;TZID=UTC:20290808T100000
DTSTAMP:20260425T133357
CREATED:20250630T174411Z
LAST-MODIFIED:20250630T175622Z
UID:10015200-1880874000-1880877600@oups.org
SUMMARY:Miami Valley Utility Safety Council
DESCRIPTION:
URL:https://oups.org/event/1miami-valley-utility-safety-council/2029-08-08/
LOCATION:Montgomery County Water Services\, 1850 Spaulding Ave\, Kettering\, OH\, 45432\, United States
CATEGORIES:Damage Prevention Council
ORGANIZER;CN="David Gilland":MAILTO:davidg@oups.org
END:VEVENT
BEGIN:VEVENT
DTSTART;TZID=UTC:20290809T110000
DTEND;TZID=UTC:20290809T120000
DTSTAMP:20260425T133357
CREATED:20200228T192710Z
LAST-MODIFIED:20211109T131051Z
UID:10001469-1880967600-1880971200@oups.org
SUMMARY:Northwest Ohio Damage Prevention Council
DESCRIPTION:
URL:https://oups.org/event/northwest-ohio-damage-prevention-council-2020-05-14/2029-08-09/
LOCATION:Toledo Edison\, 6099 Angola Rd\, Holland\, OH\, 43528\, United States
CATEGORIES:Damage Prevention Council
ORGANIZER;CN="Jack Bennett":MAILTO:jackb@oups.org
END:VEVENT
BEGIN:VEVENT
DTSTART;TZID=UTC:20290815T090000
DTEND;TZID=UTC:20290815T100000
DTSTAMP:20260425T133357
CREATED:20250923T164606Z
LAST-MODIFIED:20250923T170413Z
UID:10015351-1881478800-1881482400@oups.org
SUMMARY:Central Ohio Damage Prevention Council
DESCRIPTION:
URL:https://oups.org/event/central-ohio-damage-prevention-council-2020-05-20-2/2029-08-15/
LOCATION:The Builders Exchange\, 1175 Dublin Rd\, Columbus\, OH\, 43215\, United States
CATEGORIES:Damage Prevention Council
END:VEVENT
BEGIN:VEVENT
DTSTART;TZID=UTC:20290823T093000
DTEND;TZID=UTC:20290823T103000
DTSTAMP:20260425T133357
CREATED:20200227T175954Z
LAST-MODIFIED:20241220T154315Z
UID:10001478-1882171800-1882175400@oups.org
SUMMARY:Eastern Ohio Damage Prevention Council
DESCRIPTION:
URL:https://oups.org/event/eastern-ohio-damage-prevention-council-2020-04-23-2020-05-28-2022-04-28/2029-08-23/
LOCATION:OHIO811\, 12467 Mahoning Ave\, North Jackson\, OH\, 44451\, United States
CATEGORIES:Damage Prevention Council
ORGANIZER;CN="Matt Hennis":MAILTO:matth@oups.org
END:VEVENT
BEGIN:VEVENT
DTSTART;TZID=UTC:20290904T090000
DTEND;TZID=UTC:20290904T100000
DTSTAMP:20260425T133357
CREATED:20200228T194701Z
LAST-MODIFIED:20200601T134544Z
UID:10001503-1883206800-1883210400@oups.org
SUMMARY:Stark County Utility Coordinating Council
DESCRIPTION:
URL:https://oups.org/event/stark-county-utility-coordinating-council/2029-09-04/
LOCATION:Beaver Excavating\, 2000 Beaver Place Ave SW\, Canton\, OH\, 45242\, United States
CATEGORIES:Utility Coordinating Council
ORGANIZER;CN="Matt Hennis":MAILTO:matth@oups.org
END:VEVENT
BEGIN:VEVENT
DTSTART;TZID=UTC:20290904T130000
DTEND;TZID=UTC:20290904T140000
DTSTAMP:20260425T133357
CREATED:20200228T192929Z
LAST-MODIFIED:20211207T134238Z
UID:10001505-1883221200-1883224800@oups.org
SUMMARY:Southwest Ohio Utility Safety Council
DESCRIPTION:
URL:https://oups.org/event/southwest-ohio-utility-safety-council-2020-05-05/2029-09-04/
LOCATION:Symmes Township Facility\, 8871 Weekly Ln\, Cincinnati\, OH\, 45249\, United States
CATEGORIES:Damage Prevention Council
END:VEVENT
END:VCALENDAR