BEGIN:VCALENDAR
VERSION:2.0
PRODID:-//OHIO811 | Call 811 Before You Dig | OHIO811 - ECPv6.15.20//NONSGML v1.0//EN
CALSCALE:GREGORIAN
METHOD:PUBLISH
X-ORIGINAL-URL:https://oups.org
X-WR-CALDESC:Events for OHIO811 | Call 811 Before You Dig | OHIO811
REFRESH-INTERVAL;VALUE=DURATION:PT1H
X-Robots-Tag:noindex
X-PUBLISHED-TTL:PT1H
BEGIN:VTIMEZONE
TZID:UTC
BEGIN:STANDARD
TZOFFSETFROM:+0000
TZOFFSETTO:+0000
TZNAME:UTC
DTSTART:20260101T000000
END:STANDARD
END:VTIMEZONE
BEGIN:VEVENT
DTSTART;TZID=UTC:20270203T093000
DTEND;TZID=UTC:20270203T103000
DTSTAMP:20260424T232605
CREATED:20241220T154627Z
LAST-MODIFIED:20241220T155629Z
UID:10001614-1801647000-1801650600@oups.org
SUMMARY:Northern Ohio Damage Prevention Council
DESCRIPTION:
URL:https://oups.org/event/northern-ohio-damage-prevention-council/2027-02-03/
LOCATION:City of Independence Civic Center\, 6363 Selig Blvd\, Cleveland\, 44131
CATEGORIES:Damage Prevention Council
ORGANIZER;CN="Chuck Green":MAILTO:chuckg@oups.org
END:VEVENT
BEGIN:VEVENT
DTSTART;TZID=UTC:20270303T093000
DTEND;TZID=UTC:20270303T103000
DTSTAMP:20260424T232605
CREATED:20241220T154627Z
LAST-MODIFIED:20241220T155629Z
UID:10001615-1804066200-1804069800@oups.org
SUMMARY:Northern Ohio Damage Prevention Council
DESCRIPTION:
URL:https://oups.org/event/northern-ohio-damage-prevention-council/2027-03-03/
LOCATION:City of Independence Civic Center\, 6363 Selig Blvd\, Cleveland\, 44131
CATEGORIES:Damage Prevention Council
ORGANIZER;CN="Chuck Green":MAILTO:chuckg@oups.org
END:VEVENT
BEGIN:VEVENT
DTSTART;TZID=UTC:20270407T093000
DTEND;TZID=UTC:20270407T103000
DTSTAMP:20260424T232605
CREATED:20241220T154627Z
LAST-MODIFIED:20241220T155629Z
UID:10001616-1807090200-1807093800@oups.org
SUMMARY:Northern Ohio Damage Prevention Council
DESCRIPTION:
URL:https://oups.org/event/northern-ohio-damage-prevention-council/2027-04-07/
LOCATION:City of Independence Civic Center\, 6363 Selig Blvd\, Cleveland\, 44131
CATEGORIES:Damage Prevention Council
ORGANIZER;CN="Chuck Green":MAILTO:chuckg@oups.org
END:VEVENT
BEGIN:VEVENT
DTSTART;TZID=UTC:20270428T090000
DTEND;TZID=UTC:20270428T100000
DTSTAMP:20260424T232605
CREATED:20200228T194335Z
LAST-MODIFIED:20200318T143220Z
UID:10001303-1808902800-1808906400@oups.org
SUMMARY:Richland County Utility Coordinating Councils
DESCRIPTION:
URL:https://oups.org/event/richland-county-utility-coordinating-councils-2020-07-22/2027-04-28/
LOCATION:Columbia Gas of Ohio\, 1021 N Main St\, Mansfield\, OH\, 44903\, United States
CATEGORIES:Utility Coordinating Council
ORGANIZER;CN="Chuck Green":MAILTO:chuckg@oups.org
END:VEVENT
BEGIN:VEVENT
DTSTART;TZID=UTC:20270505T093000
DTEND;TZID=UTC:20270505T103000
DTSTAMP:20260424T232605
CREATED:20241220T154627Z
LAST-MODIFIED:20241220T155629Z
UID:10001617-1809509400-1809513000@oups.org
SUMMARY:Northern Ohio Damage Prevention Council
DESCRIPTION:
URL:https://oups.org/event/northern-ohio-damage-prevention-council/2027-05-05/
LOCATION:City of Independence Civic Center\, 6363 Selig Blvd\, Cleveland\, 44131
CATEGORIES:Damage Prevention Council
ORGANIZER;CN="Chuck Green":MAILTO:chuckg@oups.org
END:VEVENT
BEGIN:VEVENT
DTSTART;TZID=UTC:20270602T093000
DTEND;TZID=UTC:20270602T103000
DTSTAMP:20260424T232605
CREATED:20241220T154627Z
LAST-MODIFIED:20241220T155629Z
UID:10001618-1811928600-1811932200@oups.org
SUMMARY:Northern Ohio Damage Prevention Council
DESCRIPTION:
URL:https://oups.org/event/northern-ohio-damage-prevention-council/2027-06-02/
LOCATION:City of Independence Civic Center\, 6363 Selig Blvd\, Cleveland\, 44131
CATEGORIES:Damage Prevention Council
ORGANIZER;CN="Chuck Green":MAILTO:chuckg@oups.org
END:VEVENT
BEGIN:VEVENT
DTSTART;TZID=UTC:20270707T093000
DTEND;TZID=UTC:20270707T103000
DTSTAMP:20260424T232605
CREATED:20241220T154627Z
LAST-MODIFIED:20241220T155629Z
UID:10001619-1814952600-1814956200@oups.org
SUMMARY:Northern Ohio Damage Prevention Council
DESCRIPTION:
URL:https://oups.org/event/northern-ohio-damage-prevention-council/2027-07-07/
LOCATION:City of Independence Civic Center\, 6363 Selig Blvd\, Cleveland\, 44131
CATEGORIES:Damage Prevention Council
ORGANIZER;CN="Chuck Green":MAILTO:chuckg@oups.org
END:VEVENT
BEGIN:VEVENT
DTSTART;TZID=UTC:20270728T090000
DTEND;TZID=UTC:20270728T100000
DTSTAMP:20260424T232605
CREATED:20200228T194335Z
LAST-MODIFIED:20200318T143220Z
UID:10001304-1816765200-1816768800@oups.org
SUMMARY:Richland County Utility Coordinating Councils
DESCRIPTION:
URL:https://oups.org/event/richland-county-utility-coordinating-councils-2020-07-22/2027-07-28/
LOCATION:Columbia Gas of Ohio\, 1021 N Main St\, Mansfield\, OH\, 44903\, United States
CATEGORIES:Utility Coordinating Council
ORGANIZER;CN="Chuck Green":MAILTO:chuckg@oups.org
END:VEVENT
BEGIN:VEVENT
DTSTART;TZID=UTC:20270804T093000
DTEND;TZID=UTC:20270804T103000
DTSTAMP:20260424T232605
CREATED:20241220T154627Z
LAST-MODIFIED:20241220T155629Z
UID:10001620-1817371800-1817375400@oups.org
SUMMARY:Northern Ohio Damage Prevention Council
DESCRIPTION:
URL:https://oups.org/event/northern-ohio-damage-prevention-council/2027-08-04/
LOCATION:City of Independence Civic Center\, 6363 Selig Blvd\, Cleveland\, 44131
CATEGORIES:Damage Prevention Council
ORGANIZER;CN="Chuck Green":MAILTO:chuckg@oups.org
END:VEVENT
BEGIN:VEVENT
DTSTART;TZID=UTC:20270901T093000
DTEND;TZID=UTC:20270901T103000
DTSTAMP:20260424T232605
CREATED:20241220T154627Z
LAST-MODIFIED:20241220T155629Z
UID:10001621-1819791000-1819794600@oups.org
SUMMARY:Northern Ohio Damage Prevention Council
DESCRIPTION:
URL:https://oups.org/event/northern-ohio-damage-prevention-council/2027-09-01/
LOCATION:City of Independence Civic Center\, 6363 Selig Blvd\, Cleveland\, 44131
CATEGORIES:Damage Prevention Council
ORGANIZER;CN="Chuck Green":MAILTO:chuckg@oups.org
END:VEVENT
BEGIN:VEVENT
DTSTART;TZID=UTC:20271006T093000
DTEND;TZID=UTC:20271006T103000
DTSTAMP:20260424T232605
CREATED:20241220T154627Z
LAST-MODIFIED:20241220T155629Z
UID:10001622-1822815000-1822818600@oups.org
SUMMARY:Northern Ohio Damage Prevention Council
DESCRIPTION:
URL:https://oups.org/event/northern-ohio-damage-prevention-council/2027-10-06/
LOCATION:City of Independence Civic Center\, 6363 Selig Blvd\, Cleveland\, 44131
CATEGORIES:Damage Prevention Council
ORGANIZER;CN="Chuck Green":MAILTO:chuckg@oups.org
END:VEVENT
BEGIN:VEVENT
DTSTART;TZID=UTC:20271027T090000
DTEND;TZID=UTC:20271027T100000
DTSTAMP:20260424T232605
CREATED:20200228T194335Z
LAST-MODIFIED:20200318T143220Z
UID:10001305-1824627600-1824631200@oups.org
SUMMARY:Richland County Utility Coordinating Councils
DESCRIPTION:
URL:https://oups.org/event/richland-county-utility-coordinating-councils-2020-07-22/2027-10-27/
LOCATION:Columbia Gas of Ohio\, 1021 N Main St\, Mansfield\, OH\, 44903\, United States
CATEGORIES:Utility Coordinating Council
ORGANIZER;CN="Chuck Green":MAILTO:chuckg@oups.org
END:VEVENT
BEGIN:VEVENT
DTSTART;TZID=UTC:20271103T093000
DTEND;TZID=UTC:20271103T103000
DTSTAMP:20260424T232605
CREATED:20241220T154627Z
LAST-MODIFIED:20241220T155629Z
UID:10001623-1825234200-1825237800@oups.org
SUMMARY:Northern Ohio Damage Prevention Council
DESCRIPTION:
URL:https://oups.org/event/northern-ohio-damage-prevention-council/2027-11-03/
LOCATION:City of Independence Civic Center\, 6363 Selig Blvd\, Cleveland\, 44131
CATEGORIES:Damage Prevention Council
ORGANIZER;CN="Chuck Green":MAILTO:chuckg@oups.org
END:VEVENT
BEGIN:VEVENT
DTSTART;TZID=UTC:20271201T093000
DTEND;TZID=UTC:20271201T103000
DTSTAMP:20260424T232605
CREATED:20241220T154627Z
LAST-MODIFIED:20241220T155629Z
UID:10001624-1827653400-1827657000@oups.org
SUMMARY:Northern Ohio Damage Prevention Council
DESCRIPTION:
URL:https://oups.org/event/northern-ohio-damage-prevention-council/2027-12-01/
LOCATION:City of Independence Civic Center\, 6363 Selig Blvd\, Cleveland\, 44131
CATEGORIES:Damage Prevention Council
ORGANIZER;CN="Chuck Green":MAILTO:chuckg@oups.org
END:VEVENT
BEGIN:VEVENT
DTSTART;TZID=UTC:20280105T093000
DTEND;TZID=UTC:20280105T103000
DTSTAMP:20260424T232605
CREATED:20241220T154627Z
LAST-MODIFIED:20241220T155629Z
UID:10001625-1830677400-1830681000@oups.org
SUMMARY:Northern Ohio Damage Prevention Council
DESCRIPTION:
URL:https://oups.org/event/northern-ohio-damage-prevention-council/2028-01-05/
LOCATION:City of Independence Civic Center\, 6363 Selig Blvd\, Cleveland\, 44131
CATEGORIES:Damage Prevention Council
ORGANIZER;CN="Chuck Green":MAILTO:chuckg@oups.org
END:VEVENT
BEGIN:VEVENT
DTSTART;TZID=UTC:20280126T090000
DTEND;TZID=UTC:20280126T100000
DTSTAMP:20260424T232605
CREATED:20200228T194335Z
LAST-MODIFIED:20200318T143220Z
UID:10001306-1832490000-1832493600@oups.org
SUMMARY:Richland County Utility Coordinating Councils
DESCRIPTION:
URL:https://oups.org/event/richland-county-utility-coordinating-councils-2020-07-22/2028-01-26/
LOCATION:Columbia Gas of Ohio\, 1021 N Main St\, Mansfield\, OH\, 44903\, United States
CATEGORIES:Utility Coordinating Council
ORGANIZER;CN="Chuck Green":MAILTO:chuckg@oups.org
END:VEVENT
BEGIN:VEVENT
DTSTART;TZID=UTC:20280202T093000
DTEND;TZID=UTC:20280202T103000
DTSTAMP:20260424T232605
CREATED:20241220T154627Z
LAST-MODIFIED:20241220T155629Z
UID:10001626-1833096600-1833100200@oups.org
SUMMARY:Northern Ohio Damage Prevention Council
DESCRIPTION:
URL:https://oups.org/event/northern-ohio-damage-prevention-council/2028-02-02/
LOCATION:City of Independence Civic Center\, 6363 Selig Blvd\, Cleveland\, 44131
CATEGORIES:Damage Prevention Council
ORGANIZER;CN="Chuck Green":MAILTO:chuckg@oups.org
END:VEVENT
BEGIN:VEVENT
DTSTART;TZID=UTC:20280301T093000
DTEND;TZID=UTC:20280301T103000
DTSTAMP:20260424T232605
CREATED:20241220T154627Z
LAST-MODIFIED:20241220T155629Z
UID:10001627-1835515800-1835519400@oups.org
SUMMARY:Northern Ohio Damage Prevention Council
DESCRIPTION:
URL:https://oups.org/event/northern-ohio-damage-prevention-council/2028-03-01/
LOCATION:City of Independence Civic Center\, 6363 Selig Blvd\, Cleveland\, 44131
CATEGORIES:Damage Prevention Council
ORGANIZER;CN="Chuck Green":MAILTO:chuckg@oups.org
END:VEVENT
BEGIN:VEVENT
DTSTART;TZID=UTC:20280405T093000
DTEND;TZID=UTC:20280405T103000
DTSTAMP:20260424T232605
CREATED:20241220T154627Z
LAST-MODIFIED:20241220T155629Z
UID:10001628-1838539800-1838543400@oups.org
SUMMARY:Northern Ohio Damage Prevention Council
DESCRIPTION:
URL:https://oups.org/event/northern-ohio-damage-prevention-council/2028-04-05/
LOCATION:City of Independence Civic Center\, 6363 Selig Blvd\, Cleveland\, 44131
CATEGORIES:Damage Prevention Council
ORGANIZER;CN="Chuck Green":MAILTO:chuckg@oups.org
END:VEVENT
BEGIN:VEVENT
DTSTART;TZID=UTC:20280426T090000
DTEND;TZID=UTC:20280426T100000
DTSTAMP:20260424T232605
CREATED:20200228T194335Z
LAST-MODIFIED:20200318T143220Z
UID:10001307-1840352400-1840356000@oups.org
SUMMARY:Richland County Utility Coordinating Councils
DESCRIPTION:
URL:https://oups.org/event/richland-county-utility-coordinating-councils-2020-07-22/2028-04-26/
LOCATION:Columbia Gas of Ohio\, 1021 N Main St\, Mansfield\, OH\, 44903\, United States
CATEGORIES:Utility Coordinating Council
ORGANIZER;CN="Chuck Green":MAILTO:chuckg@oups.org
END:VEVENT
BEGIN:VEVENT
DTSTART;TZID=UTC:20280503T093000
DTEND;TZID=UTC:20280503T103000
DTSTAMP:20260424T232605
CREATED:20241220T154627Z
LAST-MODIFIED:20241220T155629Z
UID:10001629-1840959000-1840962600@oups.org
SUMMARY:Northern Ohio Damage Prevention Council
DESCRIPTION:
URL:https://oups.org/event/northern-ohio-damage-prevention-council/2028-05-03/
LOCATION:City of Independence Civic Center\, 6363 Selig Blvd\, Cleveland\, 44131
CATEGORIES:Damage Prevention Council
ORGANIZER;CN="Chuck Green":MAILTO:chuckg@oups.org
END:VEVENT
BEGIN:VEVENT
DTSTART;TZID=UTC:20280607T093000
DTEND;TZID=UTC:20280607T103000
DTSTAMP:20260424T232605
CREATED:20241220T154627Z
LAST-MODIFIED:20241220T155629Z
UID:10001630-1843983000-1843986600@oups.org
SUMMARY:Northern Ohio Damage Prevention Council
DESCRIPTION:
URL:https://oups.org/event/northern-ohio-damage-prevention-council/2028-06-07/
LOCATION:City of Independence Civic Center\, 6363 Selig Blvd\, Cleveland\, 44131
CATEGORIES:Damage Prevention Council
ORGANIZER;CN="Chuck Green":MAILTO:chuckg@oups.org
END:VEVENT
BEGIN:VEVENT
DTSTART;TZID=UTC:20280705T093000
DTEND;TZID=UTC:20280705T103000
DTSTAMP:20260424T232605
CREATED:20241220T154627Z
LAST-MODIFIED:20241220T155629Z
UID:10001631-1846402200-1846405800@oups.org
SUMMARY:Northern Ohio Damage Prevention Council
DESCRIPTION:
URL:https://oups.org/event/northern-ohio-damage-prevention-council/2028-07-05/
LOCATION:City of Independence Civic Center\, 6363 Selig Blvd\, Cleveland\, 44131
CATEGORIES:Damage Prevention Council
ORGANIZER;CN="Chuck Green":MAILTO:chuckg@oups.org
END:VEVENT
BEGIN:VEVENT
DTSTART;TZID=UTC:20280726T090000
DTEND;TZID=UTC:20280726T100000
DTSTAMP:20260424T232605
CREATED:20200228T194335Z
LAST-MODIFIED:20200318T143220Z
UID:10001345-1848214800-1848218400@oups.org
SUMMARY:Richland County Utility Coordinating Councils
DESCRIPTION:
URL:https://oups.org/event/richland-county-utility-coordinating-councils-2020-07-22/2028-07-26/
LOCATION:Columbia Gas of Ohio\, 1021 N Main St\, Mansfield\, OH\, 44903\, United States
CATEGORIES:Utility Coordinating Council
ORGANIZER;CN="Chuck Green":MAILTO:chuckg@oups.org
END:VEVENT
BEGIN:VEVENT
DTSTART;TZID=UTC:20280802T093000
DTEND;TZID=UTC:20280802T103000
DTSTAMP:20260424T232605
CREATED:20241220T154627Z
LAST-MODIFIED:20241220T155629Z
UID:10001632-1848821400-1848825000@oups.org
SUMMARY:Northern Ohio Damage Prevention Council
DESCRIPTION:
URL:https://oups.org/event/northern-ohio-damage-prevention-council/2028-08-02/
LOCATION:City of Independence Civic Center\, 6363 Selig Blvd\, Cleveland\, 44131
CATEGORIES:Damage Prevention Council
ORGANIZER;CN="Chuck Green":MAILTO:chuckg@oups.org
END:VEVENT
BEGIN:VEVENT
DTSTART;TZID=UTC:20280906T093000
DTEND;TZID=UTC:20280906T103000
DTSTAMP:20260424T232605
CREATED:20241220T154627Z
LAST-MODIFIED:20241220T155629Z
UID:10001633-1851845400-1851849000@oups.org
SUMMARY:Northern Ohio Damage Prevention Council
DESCRIPTION:
URL:https://oups.org/event/northern-ohio-damage-prevention-council/2028-09-06/
LOCATION:City of Independence Civic Center\, 6363 Selig Blvd\, Cleveland\, 44131
CATEGORIES:Damage Prevention Council
ORGANIZER;CN="Chuck Green":MAILTO:chuckg@oups.org
END:VEVENT
BEGIN:VEVENT
DTSTART;TZID=UTC:20281004T093000
DTEND;TZID=UTC:20281004T103000
DTSTAMP:20260424T232605
CREATED:20241220T154627Z
LAST-MODIFIED:20241220T155629Z
UID:10001634-1854264600-1854268200@oups.org
SUMMARY:Northern Ohio Damage Prevention Council
DESCRIPTION:
URL:https://oups.org/event/northern-ohio-damage-prevention-council/2028-10-04/
LOCATION:City of Independence Civic Center\, 6363 Selig Blvd\, Cleveland\, 44131
CATEGORIES:Damage Prevention Council
ORGANIZER;CN="Chuck Green":MAILTO:chuckg@oups.org
END:VEVENT
BEGIN:VEVENT
DTSTART;TZID=UTC:20281025T090000
DTEND;TZID=UTC:20281025T100000
DTSTAMP:20260424T232605
CREATED:20200228T194335Z
LAST-MODIFIED:20200318T143220Z
UID:10001369-1856077200-1856080800@oups.org
SUMMARY:Richland County Utility Coordinating Councils
DESCRIPTION:
URL:https://oups.org/event/richland-county-utility-coordinating-councils-2020-07-22/2028-10-25/
LOCATION:Columbia Gas of Ohio\, 1021 N Main St\, Mansfield\, OH\, 44903\, United States
CATEGORIES:Utility Coordinating Council
ORGANIZER;CN="Chuck Green":MAILTO:chuckg@oups.org
END:VEVENT
BEGIN:VEVENT
DTSTART;TZID=UTC:20281101T093000
DTEND;TZID=UTC:20281101T103000
DTSTAMP:20260424T232605
CREATED:20241220T154627Z
LAST-MODIFIED:20241220T155629Z
UID:10001635-1856683800-1856687400@oups.org
SUMMARY:Northern Ohio Damage Prevention Council
DESCRIPTION:
URL:https://oups.org/event/northern-ohio-damage-prevention-council/2028-11-01/
LOCATION:City of Independence Civic Center\, 6363 Selig Blvd\, Cleveland\, 44131
CATEGORIES:Damage Prevention Council
ORGANIZER;CN="Chuck Green":MAILTO:chuckg@oups.org
END:VEVENT
BEGIN:VEVENT
DTSTART;TZID=UTC:20281206T093000
DTEND;TZID=UTC:20281206T103000
DTSTAMP:20260424T232605
CREATED:20241220T154627Z
LAST-MODIFIED:20241220T155629Z
UID:10001636-1859707800-1859711400@oups.org
SUMMARY:Northern Ohio Damage Prevention Council
DESCRIPTION:
URL:https://oups.org/event/northern-ohio-damage-prevention-council/2028-12-06/
LOCATION:City of Independence Civic Center\, 6363 Selig Blvd\, Cleveland\, 44131
CATEGORIES:Damage Prevention Council
ORGANIZER;CN="Chuck Green":MAILTO:chuckg@oups.org
END:VEVENT
END:VCALENDAR