BEGIN:VCALENDAR
VERSION:2.0
PRODID:-//OHIO811 | Call 811 Before You Dig | OHIO811 - ECPv6.15.20//NONSGML v1.0//EN
CALSCALE:GREGORIAN
METHOD:PUBLISH
X-ORIGINAL-URL:https://oups.org
X-WR-CALDESC:Events for OHIO811 | Call 811 Before You Dig | OHIO811
REFRESH-INTERVAL;VALUE=DURATION:PT1H
X-Robots-Tag:noindex
X-PUBLISHED-TTL:PT1H
BEGIN:VTIMEZONE
TZID:UTC
BEGIN:STANDARD
TZOFFSETFROM:+0000
TZOFFSETTO:+0000
TZNAME:UTC
DTSTART:20260101T000000
END:STANDARD
END:VTIMEZONE
BEGIN:VEVENT
DTSTART;TZID=UTC:20270722T093000
DTEND;TZID=UTC:20270722T103000
DTSTAMP:20260425T025623
CREATED:20200227T175954Z
LAST-MODIFIED:20241220T154315Z
UID:10001134-1816248600-1816252200@oups.org
SUMMARY:Eastern Ohio Damage Prevention Council
DESCRIPTION:
URL:https://oups.org/event/eastern-ohio-damage-prevention-council-2020-04-23-2020-05-28-2022-04-28/2027-07-22/
LOCATION:OHIO811\, 12467 Mahoning Ave\, North Jackson\, OH\, 44451\, United States
CATEGORIES:Damage Prevention Council
ORGANIZER;CN="Matt Hennis":MAILTO:matth@oups.org
END:VEVENT
BEGIN:VEVENT
DTSTART;TZID=UTC:20270803T090000
DTEND;TZID=UTC:20270803T100000
DTSTAMP:20260425T025623
CREATED:20200228T193309Z
LAST-MODIFIED:20200318T143155Z
UID:10001154-1817283600-1817287200@oups.org
SUMMARY:Southeast Ohio Utility Coordinating Council
DESCRIPTION:
URL:https://oups.org/event/southeast-ohio-utility-coordinating-council/2027-08-03/
LOCATION:Washington Electric Cooperative\, 440 Highland Ridge Rd\, Marietta\, OH\, 45750\, United States
CATEGORIES:Utility Coordinating Council
ORGANIZER;CN="Matt Hennis":MAILTO:matth@oups.org
END:VEVENT
BEGIN:VEVENT
DTSTART;TZID=UTC:20270826T093000
DTEND;TZID=UTC:20270826T103000
DTSTAMP:20260425T025623
CREATED:20200227T175954Z
LAST-MODIFIED:20241220T154315Z
UID:10001135-1819272600-1819276200@oups.org
SUMMARY:Eastern Ohio Damage Prevention Council
DESCRIPTION:
URL:https://oups.org/event/eastern-ohio-damage-prevention-council-2020-04-23-2020-05-28-2022-04-28/2027-08-26/
LOCATION:OHIO811\, 12467 Mahoning Ave\, North Jackson\, OH\, 44451\, United States
CATEGORIES:Damage Prevention Council
ORGANIZER;CN="Matt Hennis":MAILTO:matth@oups.org
END:VEVENT
BEGIN:VEVENT
DTSTART;TZID=UTC:20270907T090000
DTEND;TZID=UTC:20270907T100000
DTSTAMP:20260425T025623
CREATED:20200228T194701Z
LAST-MODIFIED:20200601T134544Z
UID:10001290-1820307600-1820311200@oups.org
SUMMARY:Stark County Utility Coordinating Council
DESCRIPTION:
URL:https://oups.org/event/stark-county-utility-coordinating-council/2027-09-07/
LOCATION:Beaver Excavating\, 2000 Beaver Place Ave SW\, Canton\, OH\, 45242\, United States
CATEGORIES:Utility Coordinating Council
ORGANIZER;CN="Matt Hennis":MAILTO:matth@oups.org
END:VEVENT
BEGIN:VEVENT
DTSTART;TZID=UTC:20270923T093000
DTEND;TZID=UTC:20270923T103000
DTSTAMP:20260425T025623
CREATED:20200227T175954Z
LAST-MODIFIED:20241220T154315Z
UID:10001136-1821691800-1821695400@oups.org
SUMMARY:Eastern Ohio Damage Prevention Council
DESCRIPTION:
URL:https://oups.org/event/eastern-ohio-damage-prevention-council-2020-04-23-2020-05-28-2022-04-28/2027-09-23/
LOCATION:OHIO811\, 12467 Mahoning Ave\, North Jackson\, OH\, 44451\, United States
CATEGORIES:Damage Prevention Council
ORGANIZER;CN="Matt Hennis":MAILTO:matth@oups.org
END:VEVENT
BEGIN:VEVENT
DTSTART;TZID=UTC:20271028T093000
DTEND;TZID=UTC:20271028T103000
DTSTAMP:20260425T025623
CREATED:20200227T175954Z
LAST-MODIFIED:20241220T154315Z
UID:10001137-1824715800-1824719400@oups.org
SUMMARY:Eastern Ohio Damage Prevention Council
DESCRIPTION:
URL:https://oups.org/event/eastern-ohio-damage-prevention-council-2020-04-23-2020-05-28-2022-04-28/2027-10-28/
LOCATION:OHIO811\, 12467 Mahoning Ave\, North Jackson\, OH\, 44451\, United States
CATEGORIES:Damage Prevention Council
ORGANIZER;CN="Matt Hennis":MAILTO:matth@oups.org
END:VEVENT
BEGIN:VEVENT
DTSTART;TZID=UTC:20271102T090000
DTEND;TZID=UTC:20271102T100000
DTSTAMP:20260425T025623
CREATED:20200228T193309Z
LAST-MODIFIED:20200318T143155Z
UID:10001155-1825146000-1825149600@oups.org
SUMMARY:Southeast Ohio Utility Coordinating Council
DESCRIPTION:
URL:https://oups.org/event/southeast-ohio-utility-coordinating-council/2027-11-02/
LOCATION:Washington Electric Cooperative\, 440 Highland Ridge Rd\, Marietta\, OH\, 45750\, United States
CATEGORIES:Utility Coordinating Council
ORGANIZER;CN="Matt Hennis":MAILTO:matth@oups.org
END:VEVENT
BEGIN:VEVENT
DTSTART;TZID=UTC:20271125T093000
DTEND;TZID=UTC:20271125T103000
DTSTAMP:20260425T025623
CREATED:20200227T175954Z
LAST-MODIFIED:20241220T154315Z
UID:10001138-1827135000-1827138600@oups.org
SUMMARY:Eastern Ohio Damage Prevention Council
DESCRIPTION:
URL:https://oups.org/event/eastern-ohio-damage-prevention-council-2020-04-23-2020-05-28-2022-04-28/2027-11-25/
LOCATION:OHIO811\, 12467 Mahoning Ave\, North Jackson\, OH\, 44451\, United States
CATEGORIES:Damage Prevention Council
ORGANIZER;CN="Matt Hennis":MAILTO:matth@oups.org
END:VEVENT
BEGIN:VEVENT
DTSTART;TZID=UTC:20271207T090000
DTEND;TZID=UTC:20271207T100000
DTSTAMP:20260425T025623
CREATED:20200228T194701Z
LAST-MODIFIED:20200601T134544Z
UID:10001291-1828170000-1828173600@oups.org
SUMMARY:Stark County Utility Coordinating Council
DESCRIPTION:
URL:https://oups.org/event/stark-county-utility-coordinating-council/2027-12-07/
LOCATION:Beaver Excavating\, 2000 Beaver Place Ave SW\, Canton\, OH\, 45242\, United States
CATEGORIES:Utility Coordinating Council
ORGANIZER;CN="Matt Hennis":MAILTO:matth@oups.org
END:VEVENT
BEGIN:VEVENT
DTSTART;TZID=UTC:20271223T093000
DTEND;TZID=UTC:20271223T103000
DTSTAMP:20260425T025623
CREATED:20200227T175954Z
LAST-MODIFIED:20241220T154315Z
UID:10001139-1829554200-1829557800@oups.org
SUMMARY:Eastern Ohio Damage Prevention Council
DESCRIPTION:
URL:https://oups.org/event/eastern-ohio-damage-prevention-council-2020-04-23-2020-05-28-2022-04-28/2027-12-23/
LOCATION:OHIO811\, 12467 Mahoning Ave\, North Jackson\, OH\, 44451\, United States
CATEGORIES:Damage Prevention Council
ORGANIZER;CN="Matt Hennis":MAILTO:matth@oups.org
END:VEVENT
BEGIN:VEVENT
DTSTART;TZID=UTC:20280127T093000
DTEND;TZID=UTC:20280127T103000
DTSTAMP:20260425T025623
CREATED:20200227T175954Z
LAST-MODIFIED:20241220T154315Z
UID:10001140-1832578200-1832581800@oups.org
SUMMARY:Eastern Ohio Damage Prevention Council
DESCRIPTION:
URL:https://oups.org/event/eastern-ohio-damage-prevention-council-2020-04-23-2020-05-28-2022-04-28/2028-01-27/
LOCATION:OHIO811\, 12467 Mahoning Ave\, North Jackson\, OH\, 44451\, United States
CATEGORIES:Damage Prevention Council
ORGANIZER;CN="Matt Hennis":MAILTO:matth@oups.org
END:VEVENT
BEGIN:VEVENT
DTSTART;TZID=UTC:20280201T090000
DTEND;TZID=UTC:20280201T100000
DTSTAMP:20260425T025623
CREATED:20200228T193309Z
LAST-MODIFIED:20200318T143155Z
UID:10001156-1833008400-1833012000@oups.org
SUMMARY:Southeast Ohio Utility Coordinating Council
DESCRIPTION:
URL:https://oups.org/event/southeast-ohio-utility-coordinating-council/2028-02-01/
LOCATION:Washington Electric Cooperative\, 440 Highland Ridge Rd\, Marietta\, OH\, 45750\, United States
CATEGORIES:Utility Coordinating Council
ORGANIZER;CN="Matt Hennis":MAILTO:matth@oups.org
END:VEVENT
BEGIN:VEVENT
DTSTART;TZID=UTC:20280224T093000
DTEND;TZID=UTC:20280224T103000
DTSTAMP:20260425T025623
CREATED:20200227T175954Z
LAST-MODIFIED:20241220T154315Z
UID:10001141-1834997400-1835001000@oups.org
SUMMARY:Eastern Ohio Damage Prevention Council
DESCRIPTION:
URL:https://oups.org/event/eastern-ohio-damage-prevention-council-2020-04-23-2020-05-28-2022-04-28/2028-02-24/
LOCATION:OHIO811\, 12467 Mahoning Ave\, North Jackson\, OH\, 44451\, United States
CATEGORIES:Damage Prevention Council
ORGANIZER;CN="Matt Hennis":MAILTO:matth@oups.org
END:VEVENT
BEGIN:VEVENT
DTSTART;TZID=UTC:20280307T090000
DTEND;TZID=UTC:20280307T100000
DTSTAMP:20260425T025623
CREATED:20200228T194701Z
LAST-MODIFIED:20200601T134544Z
UID:10001292-1836032400-1836036000@oups.org
SUMMARY:Stark County Utility Coordinating Council
DESCRIPTION:
URL:https://oups.org/event/stark-county-utility-coordinating-council/2028-03-07/
LOCATION:Beaver Excavating\, 2000 Beaver Place Ave SW\, Canton\, OH\, 45242\, United States
CATEGORIES:Utility Coordinating Council
ORGANIZER;CN="Matt Hennis":MAILTO:matth@oups.org
END:VEVENT
BEGIN:VEVENT
DTSTART;TZID=UTC:20280323T093000
DTEND;TZID=UTC:20280323T103000
DTSTAMP:20260425T025623
CREATED:20200227T175954Z
LAST-MODIFIED:20241220T154315Z
UID:10001142-1837416600-1837420200@oups.org
SUMMARY:Eastern Ohio Damage Prevention Council
DESCRIPTION:
URL:https://oups.org/event/eastern-ohio-damage-prevention-council-2020-04-23-2020-05-28-2022-04-28/2028-03-23/
LOCATION:OHIO811\, 12467 Mahoning Ave\, North Jackson\, OH\, 44451\, United States
CATEGORIES:Damage Prevention Council
ORGANIZER;CN="Matt Hennis":MAILTO:matth@oups.org
END:VEVENT
BEGIN:VEVENT
DTSTART;TZID=UTC:20280427T093000
DTEND;TZID=UTC:20280427T103000
DTSTAMP:20260425T025623
CREATED:20200227T175954Z
LAST-MODIFIED:20241220T154315Z
UID:10001143-1840440600-1840444200@oups.org
SUMMARY:Eastern Ohio Damage Prevention Council
DESCRIPTION:
URL:https://oups.org/event/eastern-ohio-damage-prevention-council-2020-04-23-2020-05-28-2022-04-28/2028-04-27/
LOCATION:OHIO811\, 12467 Mahoning Ave\, North Jackson\, OH\, 44451\, United States
CATEGORIES:Damage Prevention Council
ORGANIZER;CN="Matt Hennis":MAILTO:matth@oups.org
END:VEVENT
BEGIN:VEVENT
DTSTART;TZID=UTC:20280502T090000
DTEND;TZID=UTC:20280502T100000
DTSTAMP:20260425T025623
CREATED:20200228T193309Z
LAST-MODIFIED:20200318T143155Z
UID:10001157-1840870800-1840874400@oups.org
SUMMARY:Southeast Ohio Utility Coordinating Council
DESCRIPTION:
URL:https://oups.org/event/southeast-ohio-utility-coordinating-council/2028-05-02/
LOCATION:Washington Electric Cooperative\, 440 Highland Ridge Rd\, Marietta\, OH\, 45750\, United States
CATEGORIES:Utility Coordinating Council
ORGANIZER;CN="Matt Hennis":MAILTO:matth@oups.org
END:VEVENT
BEGIN:VEVENT
DTSTART;TZID=UTC:20280525T093000
DTEND;TZID=UTC:20280525T103000
DTSTAMP:20260425T025623
CREATED:20200227T175954Z
LAST-MODIFIED:20241220T154315Z
UID:10001324-1842859800-1842863400@oups.org
SUMMARY:Eastern Ohio Damage Prevention Council
DESCRIPTION:
URL:https://oups.org/event/eastern-ohio-damage-prevention-council-2020-04-23-2020-05-28-2022-04-28/2028-05-25/
LOCATION:OHIO811\, 12467 Mahoning Ave\, North Jackson\, OH\, 44451\, United States
CATEGORIES:Damage Prevention Council
ORGANIZER;CN="Matt Hennis":MAILTO:matth@oups.org
END:VEVENT
BEGIN:VEVENT
DTSTART;TZID=UTC:20280606T090000
DTEND;TZID=UTC:20280606T100000
DTSTAMP:20260425T025623
CREATED:20200228T194701Z
LAST-MODIFIED:20200601T134544Z
UID:10001352-1843894800-1843898400@oups.org
SUMMARY:Stark County Utility Coordinating Council
DESCRIPTION:
URL:https://oups.org/event/stark-county-utility-coordinating-council/2028-06-06/
LOCATION:Beaver Excavating\, 2000 Beaver Place Ave SW\, Canton\, OH\, 45242\, United States
CATEGORIES:Utility Coordinating Council
ORGANIZER;CN="Matt Hennis":MAILTO:matth@oups.org
END:VEVENT
BEGIN:VEVENT
DTSTART;TZID=UTC:20280622T093000
DTEND;TZID=UTC:20280622T103000
DTSTAMP:20260425T025623
CREATED:20200227T175954Z
LAST-MODIFIED:20241220T154315Z
UID:10001328-1845279000-1845282600@oups.org
SUMMARY:Eastern Ohio Damage Prevention Council
DESCRIPTION:
URL:https://oups.org/event/eastern-ohio-damage-prevention-council-2020-04-23-2020-05-28-2022-04-28/2028-06-22/
LOCATION:OHIO811\, 12467 Mahoning Ave\, North Jackson\, OH\, 44451\, United States
CATEGORIES:Damage Prevention Council
ORGANIZER;CN="Matt Hennis":MAILTO:matth@oups.org
END:VEVENT
BEGIN:VEVENT
DTSTART;TZID=UTC:20280727T093000
DTEND;TZID=UTC:20280727T103000
DTSTAMP:20260425T025623
CREATED:20200227T175954Z
LAST-MODIFIED:20241220T154315Z
UID:10001346-1848303000-1848306600@oups.org
SUMMARY:Eastern Ohio Damage Prevention Council
DESCRIPTION:
URL:https://oups.org/event/eastern-ohio-damage-prevention-council-2020-04-23-2020-05-28-2022-04-28/2028-07-27/
LOCATION:OHIO811\, 12467 Mahoning Ave\, North Jackson\, OH\, 44451\, United States
CATEGORIES:Damage Prevention Council
ORGANIZER;CN="Matt Hennis":MAILTO:matth@oups.org
END:VEVENT
BEGIN:VEVENT
DTSTART;TZID=UTC:20280801T090000
DTEND;TZID=UTC:20280801T100000
DTSTAMP:20260425T025623
CREATED:20200228T193309Z
LAST-MODIFIED:20200318T143155Z
UID:10001347-1848733200-1848736800@oups.org
SUMMARY:Southeast Ohio Utility Coordinating Council
DESCRIPTION:
URL:https://oups.org/event/southeast-ohio-utility-coordinating-council/2028-08-01/
LOCATION:Washington Electric Cooperative\, 440 Highland Ridge Rd\, Marietta\, OH\, 45750\, United States
CATEGORIES:Utility Coordinating Council
ORGANIZER;CN="Matt Hennis":MAILTO:matth@oups.org
END:VEVENT
BEGIN:VEVENT
DTSTART;TZID=UTC:20280824T093000
DTEND;TZID=UTC:20280824T103000
DTSTAMP:20260425T025623
CREATED:20200227T175954Z
LAST-MODIFIED:20241220T154315Z
UID:10001361-1850722200-1850725800@oups.org
SUMMARY:Eastern Ohio Damage Prevention Council
DESCRIPTION:
URL:https://oups.org/event/eastern-ohio-damage-prevention-council-2020-04-23-2020-05-28-2022-04-28/2028-08-24/
LOCATION:OHIO811\, 12467 Mahoning Ave\, North Jackson\, OH\, 44451\, United States
CATEGORIES:Damage Prevention Council
ORGANIZER;CN="Matt Hennis":MAILTO:matth@oups.org
END:VEVENT
BEGIN:VEVENT
DTSTART;TZID=UTC:20280905T090000
DTEND;TZID=UTC:20280905T100000
DTSTAMP:20260425T025623
CREATED:20200228T194701Z
LAST-MODIFIED:20200601T134544Z
UID:10001353-1851757200-1851760800@oups.org
SUMMARY:Stark County Utility Coordinating Council
DESCRIPTION:
URL:https://oups.org/event/stark-county-utility-coordinating-council/2028-09-05/
LOCATION:Beaver Excavating\, 2000 Beaver Place Ave SW\, Canton\, OH\, 45242\, United States
CATEGORIES:Utility Coordinating Council
ORGANIZER;CN="Matt Hennis":MAILTO:matth@oups.org
END:VEVENT
BEGIN:VEVENT
DTSTART;TZID=UTC:20280928T093000
DTEND;TZID=UTC:20280928T103000
DTSTAMP:20260425T025623
CREATED:20200227T175954Z
LAST-MODIFIED:20241220T154315Z
UID:10001370-1853746200-1853749800@oups.org
SUMMARY:Eastern Ohio Damage Prevention Council
DESCRIPTION:
URL:https://oups.org/event/eastern-ohio-damage-prevention-council-2020-04-23-2020-05-28-2022-04-28/2028-09-28/
LOCATION:OHIO811\, 12467 Mahoning Ave\, North Jackson\, OH\, 44451\, United States
CATEGORIES:Damage Prevention Council
ORGANIZER;CN="Matt Hennis":MAILTO:matth@oups.org
END:VEVENT
BEGIN:VEVENT
DTSTART;TZID=UTC:20281026T093000
DTEND;TZID=UTC:20281026T103000
DTSTAMP:20260425T025623
CREATED:20200227T175954Z
LAST-MODIFIED:20241220T154315Z
UID:10001371-1856165400-1856169000@oups.org
SUMMARY:Eastern Ohio Damage Prevention Council
DESCRIPTION:
URL:https://oups.org/event/eastern-ohio-damage-prevention-council-2020-04-23-2020-05-28-2022-04-28/2028-10-26/
LOCATION:OHIO811\, 12467 Mahoning Ave\, North Jackson\, OH\, 44451\, United States
CATEGORIES:Damage Prevention Council
ORGANIZER;CN="Matt Hennis":MAILTO:matth@oups.org
END:VEVENT
BEGIN:VEVENT
DTSTART;TZID=UTC:20281107T090000
DTEND;TZID=UTC:20281107T100000
DTSTAMP:20260425T025623
CREATED:20200228T193309Z
LAST-MODIFIED:20200318T143155Z
UID:10001397-1857200400-1857204000@oups.org
SUMMARY:Southeast Ohio Utility Coordinating Council
DESCRIPTION:
URL:https://oups.org/event/southeast-ohio-utility-coordinating-council/2028-11-07/
LOCATION:Washington Electric Cooperative\, 440 Highland Ridge Rd\, Marietta\, OH\, 45750\, United States
CATEGORIES:Utility Coordinating Council
ORGANIZER;CN="Matt Hennis":MAILTO:matth@oups.org
END:VEVENT
BEGIN:VEVENT
DTSTART;TZID=UTC:20281123T093000
DTEND;TZID=UTC:20281123T103000
DTSTAMP:20260425T025623
CREATED:20200227T175954Z
LAST-MODIFIED:20241220T154315Z
UID:10001394-1858584600-1858588200@oups.org
SUMMARY:Eastern Ohio Damage Prevention Council
DESCRIPTION:
URL:https://oups.org/event/eastern-ohio-damage-prevention-council-2020-04-23-2020-05-28-2022-04-28/2028-11-23/
LOCATION:OHIO811\, 12467 Mahoning Ave\, North Jackson\, OH\, 44451\, United States
CATEGORIES:Damage Prevention Council
ORGANIZER;CN="Matt Hennis":MAILTO:matth@oups.org
END:VEVENT
BEGIN:VEVENT
DTSTART;TZID=UTC:20281205T090000
DTEND;TZID=UTC:20281205T100000
DTSTAMP:20260425T025623
CREATED:20200228T194701Z
LAST-MODIFIED:20200601T134544Z
UID:10001380-1859619600-1859623200@oups.org
SUMMARY:Stark County Utility Coordinating Council
DESCRIPTION:
URL:https://oups.org/event/stark-county-utility-coordinating-council/2028-12-05/
LOCATION:Beaver Excavating\, 2000 Beaver Place Ave SW\, Canton\, OH\, 45242\, United States
CATEGORIES:Utility Coordinating Council
ORGANIZER;CN="Matt Hennis":MAILTO:matth@oups.org
END:VEVENT
BEGIN:VEVENT
DTSTART;TZID=UTC:20281228T093000
DTEND;TZID=UTC:20281228T103000
DTSTAMP:20260425T025623
CREATED:20200227T175954Z
LAST-MODIFIED:20241220T154315Z
UID:10001395-1861608600-1861612200@oups.org
SUMMARY:Eastern Ohio Damage Prevention Council
DESCRIPTION:
URL:https://oups.org/event/eastern-ohio-damage-prevention-council-2020-04-23-2020-05-28-2022-04-28/2028-12-28/
LOCATION:OHIO811\, 12467 Mahoning Ave\, North Jackson\, OH\, 44451\, United States
CATEGORIES:Damage Prevention Council
ORGANIZER;CN="Matt Hennis":MAILTO:matth@oups.org
END:VEVENT
END:VCALENDAR