BEGIN:VCALENDAR
VERSION:2.0
PRODID:-//OHIO811 | Call 811 Before You Dig | OHIO811 - ECPv6.15.20//NONSGML v1.0//EN
CALSCALE:GREGORIAN
METHOD:PUBLISH
X-ORIGINAL-URL:https://oups.org
X-WR-CALDESC:Events for OHIO811 | Call 811 Before You Dig | OHIO811
REFRESH-INTERVAL;VALUE=DURATION:PT1H
X-Robots-Tag:noindex
X-PUBLISHED-TTL:PT1H
BEGIN:VTIMEZONE
TZID:UTC
BEGIN:STANDARD
TZOFFSETFROM:+0000
TZOFFSETTO:+0000
TZNAME:UTC
DTSTART:20250101T000000
END:STANDARD
END:VTIMEZONE
BEGIN:VEVENT
DTSTART;TZID=UTC:20260505T130000
DTEND;TZID=UTC:20260505T140000
DTSTAMP:20260422T101705
CREATED:20200228T192929Z
LAST-MODIFIED:20211207T134238Z
UID:10001174-1777986000-1777989600@oups.org
SUMMARY:Southwest Ohio Utility Safety Council
DESCRIPTION:
URL:https://oups.org/event/southwest-ohio-utility-safety-council-2020-05-05/2026-05-05/
LOCATION:Symmes Township Facility\, 8871 Weekly Ln\, Cincinnati\, OH\, 45249\, United States
CATEGORIES:Damage Prevention Council
END:VEVENT
BEGIN:VEVENT
DTSTART;TZID=UTC:20260602T130000
DTEND;TZID=UTC:20260602T140000
DTSTAMP:20260422T101705
CREATED:20200228T192929Z
LAST-MODIFIED:20211207T134238Z
UID:10001175-1780405200-1780408800@oups.org
SUMMARY:Southwest Ohio Utility Safety Council
DESCRIPTION:
URL:https://oups.org/event/southwest-ohio-utility-safety-council-2020-05-05/2026-06-02/
LOCATION:Symmes Township Facility\, 8871 Weekly Ln\, Cincinnati\, OH\, 45249\, United States
CATEGORIES:Damage Prevention Council
END:VEVENT
BEGIN:VEVENT
DTSTART;TZID=UTC:20260707T130000
DTEND;TZID=UTC:20260707T140000
DTSTAMP:20260422T101705
CREATED:20200228T192929Z
LAST-MODIFIED:20211207T134238Z
UID:10001176-1783429200-1783432800@oups.org
SUMMARY:Southwest Ohio Utility Safety Council
DESCRIPTION:
URL:https://oups.org/event/southwest-ohio-utility-safety-council-2020-05-05/2026-07-07/
LOCATION:Symmes Township Facility\, 8871 Weekly Ln\, Cincinnati\, OH\, 45249\, United States
CATEGORIES:Damage Prevention Council
END:VEVENT
BEGIN:VEVENT
DTSTART;TZID=UTC:20260804T130000
DTEND;TZID=UTC:20260804T140000
DTSTAMP:20260422T101705
CREATED:20200228T192929Z
LAST-MODIFIED:20211207T134238Z
UID:10001177-1785848400-1785852000@oups.org
SUMMARY:Southwest Ohio Utility Safety Council
DESCRIPTION:
URL:https://oups.org/event/southwest-ohio-utility-safety-council-2020-05-05/2026-08-04/
LOCATION:Symmes Township Facility\, 8871 Weekly Ln\, Cincinnati\, OH\, 45249\, United States
CATEGORIES:Damage Prevention Council
END:VEVENT
BEGIN:VEVENT
DTSTART;TZID=UTC:20260901T130000
DTEND;TZID=UTC:20260901T140000
DTSTAMP:20260422T101705
CREATED:20200228T192929Z
LAST-MODIFIED:20211207T134238Z
UID:10001178-1788267600-1788271200@oups.org
SUMMARY:Southwest Ohio Utility Safety Council
DESCRIPTION:
URL:https://oups.org/event/southwest-ohio-utility-safety-council-2020-05-05/2026-09-01/
LOCATION:Symmes Township Facility\, 8871 Weekly Ln\, Cincinnati\, OH\, 45249\, United States
CATEGORIES:Damage Prevention Council
END:VEVENT
BEGIN:VEVENT
DTSTART;TZID=UTC:20261006T130000
DTEND;TZID=UTC:20261006T140000
DTSTAMP:20260422T101705
CREATED:20200228T192929Z
LAST-MODIFIED:20211207T134238Z
UID:10001179-1791291600-1791295200@oups.org
SUMMARY:Southwest Ohio Utility Safety Council
DESCRIPTION:
URL:https://oups.org/event/southwest-ohio-utility-safety-council-2020-05-05/2026-10-06/
LOCATION:Symmes Township Facility\, 8871 Weekly Ln\, Cincinnati\, OH\, 45249\, United States
CATEGORIES:Damage Prevention Council
END:VEVENT
BEGIN:VEVENT
DTSTART;TZID=UTC:20261103T130000
DTEND;TZID=UTC:20261103T140000
DTSTAMP:20260422T101705
CREATED:20200228T192929Z
LAST-MODIFIED:20211207T134238Z
UID:10001180-1793710800-1793714400@oups.org
SUMMARY:Southwest Ohio Utility Safety Council
DESCRIPTION:
URL:https://oups.org/event/southwest-ohio-utility-safety-council-2020-05-05/2026-11-03/
LOCATION:Symmes Township Facility\, 8871 Weekly Ln\, Cincinnati\, OH\, 45249\, United States
CATEGORIES:Damage Prevention Council
END:VEVENT
BEGIN:VEVENT
DTSTART;TZID=UTC:20261201T130000
DTEND;TZID=UTC:20261201T140000
DTSTAMP:20260422T101705
CREATED:20200228T192929Z
LAST-MODIFIED:20211207T134238Z
UID:10001181-1796130000-1796133600@oups.org
SUMMARY:Southwest Ohio Utility Safety Council
DESCRIPTION:
URL:https://oups.org/event/southwest-ohio-utility-safety-council-2020-05-05/2026-12-01/
LOCATION:Symmes Township Facility\, 8871 Weekly Ln\, Cincinnati\, OH\, 45249\, United States
CATEGORIES:Damage Prevention Council
END:VEVENT
BEGIN:VEVENT
DTSTART;TZID=UTC:20270105T130000
DTEND;TZID=UTC:20270105T140000
DTSTAMP:20260422T101705
CREATED:20200228T192929Z
LAST-MODIFIED:20211207T134238Z
UID:10001182-1799154000-1799157600@oups.org
SUMMARY:Southwest Ohio Utility Safety Council
DESCRIPTION:
URL:https://oups.org/event/southwest-ohio-utility-safety-council-2020-05-05/2027-01-05/
LOCATION:Symmes Township Facility\, 8871 Weekly Ln\, Cincinnati\, OH\, 45249\, United States
CATEGORIES:Damage Prevention Council
END:VEVENT
BEGIN:VEVENT
DTSTART;TZID=UTC:20270202T130000
DTEND;TZID=UTC:20270202T140000
DTSTAMP:20260422T101705
CREATED:20200228T192929Z
LAST-MODIFIED:20211207T134238Z
UID:10001183-1801573200-1801576800@oups.org
SUMMARY:Southwest Ohio Utility Safety Council
DESCRIPTION:
URL:https://oups.org/event/southwest-ohio-utility-safety-council-2020-05-05/2027-02-02/
LOCATION:Symmes Township Facility\, 8871 Weekly Ln\, Cincinnati\, OH\, 45249\, United States
CATEGORIES:Damage Prevention Council
END:VEVENT
BEGIN:VEVENT
DTSTART;TZID=UTC:20270302T130000
DTEND;TZID=UTC:20270302T140000
DTSTAMP:20260422T101705
CREATED:20200228T192929Z
LAST-MODIFIED:20211207T134238Z
UID:10001184-1803992400-1803996000@oups.org
SUMMARY:Southwest Ohio Utility Safety Council
DESCRIPTION:
URL:https://oups.org/event/southwest-ohio-utility-safety-council-2020-05-05/2027-03-02/
LOCATION:Symmes Township Facility\, 8871 Weekly Ln\, Cincinnati\, OH\, 45249\, United States
CATEGORIES:Damage Prevention Council
END:VEVENT
BEGIN:VEVENT
DTSTART;TZID=UTC:20270406T130000
DTEND;TZID=UTC:20270406T140000
DTSTAMP:20260422T101705
CREATED:20200228T192929Z
LAST-MODIFIED:20211207T134238Z
UID:10001185-1807016400-1807020000@oups.org
SUMMARY:Southwest Ohio Utility Safety Council
DESCRIPTION:
URL:https://oups.org/event/southwest-ohio-utility-safety-council-2020-05-05/2027-04-06/
LOCATION:Symmes Township Facility\, 8871 Weekly Ln\, Cincinnati\, OH\, 45249\, United States
CATEGORIES:Damage Prevention Council
END:VEVENT
BEGIN:VEVENT
DTSTART;TZID=UTC:20270504T130000
DTEND;TZID=UTC:20270504T140000
DTSTAMP:20260422T101705
CREATED:20200228T192929Z
LAST-MODIFIED:20211207T134238Z
UID:10001186-1809435600-1809439200@oups.org
SUMMARY:Southwest Ohio Utility Safety Council
DESCRIPTION:
URL:https://oups.org/event/southwest-ohio-utility-safety-council-2020-05-05/2027-05-04/
LOCATION:Symmes Township Facility\, 8871 Weekly Ln\, Cincinnati\, OH\, 45249\, United States
CATEGORIES:Damage Prevention Council
END:VEVENT
BEGIN:VEVENT
DTSTART;TZID=UTC:20270601T130000
DTEND;TZID=UTC:20270601T140000
DTSTAMP:20260422T101705
CREATED:20200228T192929Z
LAST-MODIFIED:20211207T134238Z
UID:10001187-1811854800-1811858400@oups.org
SUMMARY:Southwest Ohio Utility Safety Council
DESCRIPTION:
URL:https://oups.org/event/southwest-ohio-utility-safety-council-2020-05-05/2027-06-01/
LOCATION:Symmes Township Facility\, 8871 Weekly Ln\, Cincinnati\, OH\, 45249\, United States
CATEGORIES:Damage Prevention Council
END:VEVENT
BEGIN:VEVENT
DTSTART;TZID=UTC:20270706T130000
DTEND;TZID=UTC:20270706T140000
DTSTAMP:20260422T101705
CREATED:20200228T192929Z
LAST-MODIFIED:20211207T134238Z
UID:10001188-1814878800-1814882400@oups.org
SUMMARY:Southwest Ohio Utility Safety Council
DESCRIPTION:
URL:https://oups.org/event/southwest-ohio-utility-safety-council-2020-05-05/2027-07-06/
LOCATION:Symmes Township Facility\, 8871 Weekly Ln\, Cincinnati\, OH\, 45249\, United States
CATEGORIES:Damage Prevention Council
END:VEVENT
BEGIN:VEVENT
DTSTART;TZID=UTC:20270803T130000
DTEND;TZID=UTC:20270803T140000
DTSTAMP:20260422T101705
CREATED:20200228T192929Z
LAST-MODIFIED:20211207T134238Z
UID:10001189-1817298000-1817301600@oups.org
SUMMARY:Southwest Ohio Utility Safety Council
DESCRIPTION:
URL:https://oups.org/event/southwest-ohio-utility-safety-council-2020-05-05/2027-08-03/
LOCATION:Symmes Township Facility\, 8871 Weekly Ln\, Cincinnati\, OH\, 45249\, United States
CATEGORIES:Damage Prevention Council
END:VEVENT
BEGIN:VEVENT
DTSTART;TZID=UTC:20270907T130000
DTEND;TZID=UTC:20270907T140000
DTSTAMP:20260422T101705
CREATED:20200228T192929Z
LAST-MODIFIED:20211207T134238Z
UID:10001190-1820322000-1820325600@oups.org
SUMMARY:Southwest Ohio Utility Safety Council
DESCRIPTION:
URL:https://oups.org/event/southwest-ohio-utility-safety-council-2020-05-05/2027-09-07/
LOCATION:Symmes Township Facility\, 8871 Weekly Ln\, Cincinnati\, OH\, 45249\, United States
CATEGORIES:Damage Prevention Council
END:VEVENT
BEGIN:VEVENT
DTSTART;TZID=UTC:20271005T130000
DTEND;TZID=UTC:20271005T140000
DTSTAMP:20260422T101705
CREATED:20200228T192929Z
LAST-MODIFIED:20211207T134238Z
UID:10001191-1822741200-1822744800@oups.org
SUMMARY:Southwest Ohio Utility Safety Council
DESCRIPTION:
URL:https://oups.org/event/southwest-ohio-utility-safety-council-2020-05-05/2027-10-05/
LOCATION:Symmes Township Facility\, 8871 Weekly Ln\, Cincinnati\, OH\, 45249\, United States
CATEGORIES:Damage Prevention Council
END:VEVENT
BEGIN:VEVENT
DTSTART;TZID=UTC:20271102T130000
DTEND;TZID=UTC:20271102T140000
DTSTAMP:20260422T101705
CREATED:20200228T192929Z
LAST-MODIFIED:20211207T134238Z
UID:10001192-1825160400-1825164000@oups.org
SUMMARY:Southwest Ohio Utility Safety Council
DESCRIPTION:
URL:https://oups.org/event/southwest-ohio-utility-safety-council-2020-05-05/2027-11-02/
LOCATION:Symmes Township Facility\, 8871 Weekly Ln\, Cincinnati\, OH\, 45249\, United States
CATEGORIES:Damage Prevention Council
END:VEVENT
BEGIN:VEVENT
DTSTART;TZID=UTC:20271207T130000
DTEND;TZID=UTC:20271207T140000
DTSTAMP:20260422T101705
CREATED:20200228T192929Z
LAST-MODIFIED:20211207T134238Z
UID:10001193-1828184400-1828188000@oups.org
SUMMARY:Southwest Ohio Utility Safety Council
DESCRIPTION:
URL:https://oups.org/event/southwest-ohio-utility-safety-council-2020-05-05/2027-12-07/
LOCATION:Symmes Township Facility\, 8871 Weekly Ln\, Cincinnati\, OH\, 45249\, United States
CATEGORIES:Damage Prevention Council
END:VEVENT
BEGIN:VEVENT
DTSTART;TZID=UTC:20280104T130000
DTEND;TZID=UTC:20280104T140000
DTSTAMP:20260422T101705
CREATED:20200228T192929Z
LAST-MODIFIED:20211207T134238Z
UID:10001194-1830603600-1830607200@oups.org
SUMMARY:Southwest Ohio Utility Safety Council
DESCRIPTION:
URL:https://oups.org/event/southwest-ohio-utility-safety-council-2020-05-05/2028-01-04/
LOCATION:Symmes Township Facility\, 8871 Weekly Ln\, Cincinnati\, OH\, 45249\, United States
CATEGORIES:Damage Prevention Council
END:VEVENT
BEGIN:VEVENT
DTSTART;TZID=UTC:20280201T130000
DTEND;TZID=UTC:20280201T140000
DTSTAMP:20260422T101705
CREATED:20200228T192929Z
LAST-MODIFIED:20211207T134238Z
UID:10001195-1833022800-1833026400@oups.org
SUMMARY:Southwest Ohio Utility Safety Council
DESCRIPTION:
URL:https://oups.org/event/southwest-ohio-utility-safety-council-2020-05-05/2028-02-01/
LOCATION:Symmes Township Facility\, 8871 Weekly Ln\, Cincinnati\, OH\, 45249\, United States
CATEGORIES:Damage Prevention Council
END:VEVENT
BEGIN:VEVENT
DTSTART;TZID=UTC:20280307T130000
DTEND;TZID=UTC:20280307T140000
DTSTAMP:20260422T101705
CREATED:20200228T192929Z
LAST-MODIFIED:20211207T134238Z
UID:10001196-1836046800-1836050400@oups.org
SUMMARY:Southwest Ohio Utility Safety Council
DESCRIPTION:
URL:https://oups.org/event/southwest-ohio-utility-safety-council-2020-05-05/2028-03-07/
LOCATION:Symmes Township Facility\, 8871 Weekly Ln\, Cincinnati\, OH\, 45249\, United States
CATEGORIES:Damage Prevention Council
END:VEVENT
BEGIN:VEVENT
DTSTART;TZID=UTC:20280404T130000
DTEND;TZID=UTC:20280404T140000
DTSTAMP:20260422T101705
CREATED:20200228T192929Z
LAST-MODIFIED:20211207T134238Z
UID:10001197-1838466000-1838469600@oups.org
SUMMARY:Southwest Ohio Utility Safety Council
DESCRIPTION:
URL:https://oups.org/event/southwest-ohio-utility-safety-council-2020-05-05/2028-04-04/
LOCATION:Symmes Township Facility\, 8871 Weekly Ln\, Cincinnati\, OH\, 45249\, United States
CATEGORIES:Damage Prevention Council
END:VEVENT
BEGIN:VEVENT
DTSTART;TZID=UTC:20280502T130000
DTEND;TZID=UTC:20280502T140000
DTSTAMP:20260422T101705
CREATED:20200228T192929Z
LAST-MODIFIED:20211207T134238Z
UID:10001198-1840885200-1840888800@oups.org
SUMMARY:Southwest Ohio Utility Safety Council
DESCRIPTION:
URL:https://oups.org/event/southwest-ohio-utility-safety-council-2020-05-05/2028-05-02/
LOCATION:Symmes Township Facility\, 8871 Weekly Ln\, Cincinnati\, OH\, 45249\, United States
CATEGORIES:Damage Prevention Council
END:VEVENT
BEGIN:VEVENT
DTSTART;TZID=UTC:20280606T130000
DTEND;TZID=UTC:20280606T140000
DTSTAMP:20260422T101705
CREATED:20200228T192929Z
LAST-MODIFIED:20211207T134238Z
UID:10001325-1843909200-1843912800@oups.org
SUMMARY:Southwest Ohio Utility Safety Council
DESCRIPTION:
URL:https://oups.org/event/southwest-ohio-utility-safety-council-2020-05-05/2028-06-06/
LOCATION:Symmes Township Facility\, 8871 Weekly Ln\, Cincinnati\, OH\, 45249\, United States
CATEGORIES:Damage Prevention Council
END:VEVENT
BEGIN:VEVENT
DTSTART;TZID=UTC:20280704T130000
DTEND;TZID=UTC:20280704T140000
DTSTAMP:20260422T101705
CREATED:20200228T192929Z
LAST-MODIFIED:20211207T134238Z
UID:10001337-1846328400-1846332000@oups.org
SUMMARY:Southwest Ohio Utility Safety Council
DESCRIPTION:
URL:https://oups.org/event/southwest-ohio-utility-safety-council-2020-05-05/2028-07-04/
LOCATION:Symmes Township Facility\, 8871 Weekly Ln\, Cincinnati\, OH\, 45249\, United States
CATEGORIES:Damage Prevention Council
END:VEVENT
BEGIN:VEVENT
DTSTART;TZID=UTC:20280801T130000
DTEND;TZID=UTC:20280801T140000
DTSTAMP:20260422T101705
CREATED:20200228T192929Z
LAST-MODIFIED:20211207T134238Z
UID:10001348-1848747600-1848751200@oups.org
SUMMARY:Southwest Ohio Utility Safety Council
DESCRIPTION:
URL:https://oups.org/event/southwest-ohio-utility-safety-council-2020-05-05/2028-08-01/
LOCATION:Symmes Township Facility\, 8871 Weekly Ln\, Cincinnati\, OH\, 45249\, United States
CATEGORIES:Damage Prevention Council
END:VEVENT
BEGIN:VEVENT
DTSTART;TZID=UTC:20280905T130000
DTEND;TZID=UTC:20280905T140000
DTSTAMP:20260422T101705
CREATED:20200228T192929Z
LAST-MODIFIED:20211207T134238Z
UID:10001354-1851771600-1851775200@oups.org
SUMMARY:Southwest Ohio Utility Safety Council
DESCRIPTION:
URL:https://oups.org/event/southwest-ohio-utility-safety-council-2020-05-05/2028-09-05/
LOCATION:Symmes Township Facility\, 8871 Weekly Ln\, Cincinnati\, OH\, 45249\, United States
CATEGORIES:Damage Prevention Council
END:VEVENT
BEGIN:VEVENT
DTSTART;TZID=UTC:20281003T130000
DTEND;TZID=UTC:20281003T140000
DTSTAMP:20260422T101705
CREATED:20200228T192929Z
LAST-MODIFIED:20211207T134238Z
UID:10001362-1854190800-1854194400@oups.org
SUMMARY:Southwest Ohio Utility Safety Council
DESCRIPTION:
URL:https://oups.org/event/southwest-ohio-utility-safety-council-2020-05-05/2028-10-03/
LOCATION:Symmes Township Facility\, 8871 Weekly Ln\, Cincinnati\, OH\, 45249\, United States
CATEGORIES:Damage Prevention Council
END:VEVENT
END:VCALENDAR