BEGIN:VCALENDAR
VERSION:2.0
PRODID:-//OHIO811 | Call 811 Before You Dig | OHIO811 - ECPv6.15.20//NONSGML v1.0//EN
CALSCALE:GREGORIAN
METHOD:PUBLISH
X-ORIGINAL-URL:https://oups.org
X-WR-CALDESC:Events for OHIO811 | Call 811 Before You Dig | OHIO811
REFRESH-INTERVAL;VALUE=DURATION:PT1H
X-Robots-Tag:noindex
X-PUBLISHED-TTL:PT1H
BEGIN:VTIMEZONE
TZID:UTC
BEGIN:STANDARD
TZOFFSETFROM:+0000
TZOFFSETTO:+0000
TZNAME:UTC
DTSTART:20260101T000000
END:STANDARD
END:VTIMEZONE
BEGIN:VEVENT
DTSTART;TZID=UTC:20270519T090000
DTEND;TZID=UTC:20270519T100000
DTSTAMP:20260425T025738
CREATED:20250923T164606Z
LAST-MODIFIED:20250923T170413Z
UID:10015324-1810717200-1810720800@oups.org
SUMMARY:Central Ohio Damage Prevention Council
DESCRIPTION:
URL:https://oups.org/event/central-ohio-damage-prevention-council-2020-05-20-2/2027-05-19/
LOCATION:The Builders Exchange\, 1175 Dublin Rd\, Columbus\, OH\, 43215\, United States
CATEGORIES:Damage Prevention Council
END:VEVENT
BEGIN:VEVENT
DTSTART;TZID=UTC:20270616T090000
DTEND;TZID=UTC:20270616T100000
DTSTAMP:20260425T025738
CREATED:20250923T164606Z
LAST-MODIFIED:20250923T170413Z
UID:10015325-1813136400-1813140000@oups.org
SUMMARY:Central Ohio Damage Prevention Council
DESCRIPTION:
URL:https://oups.org/event/central-ohio-damage-prevention-council-2020-05-20-2/2027-06-16/
LOCATION:The Builders Exchange\, 1175 Dublin Rd\, Columbus\, OH\, 43215\, United States
CATEGORIES:Damage Prevention Council
END:VEVENT
BEGIN:VEVENT
DTSTART;TZID=UTC:20270721T090000
DTEND;TZID=UTC:20270721T100000
DTSTAMP:20260425T025738
CREATED:20250923T164606Z
LAST-MODIFIED:20250923T170413Z
UID:10015326-1816160400-1816164000@oups.org
SUMMARY:Central Ohio Damage Prevention Council
DESCRIPTION:
URL:https://oups.org/event/central-ohio-damage-prevention-council-2020-05-20-2/2027-07-21/
LOCATION:The Builders Exchange\, 1175 Dublin Rd\, Columbus\, OH\, 43215\, United States
CATEGORIES:Damage Prevention Council
END:VEVENT
BEGIN:VEVENT
DTSTART;TZID=UTC:20270818T090000
DTEND;TZID=UTC:20270818T100000
DTSTAMP:20260425T025738
CREATED:20250923T164606Z
LAST-MODIFIED:20250923T170413Z
UID:10015327-1818579600-1818583200@oups.org
SUMMARY:Central Ohio Damage Prevention Council
DESCRIPTION:
URL:https://oups.org/event/central-ohio-damage-prevention-council-2020-05-20-2/2027-08-18/
LOCATION:The Builders Exchange\, 1175 Dublin Rd\, Columbus\, OH\, 43215\, United States
CATEGORIES:Damage Prevention Council
END:VEVENT
BEGIN:VEVENT
DTSTART;TZID=UTC:20270915T090000
DTEND;TZID=UTC:20270915T100000
DTSTAMP:20260425T025738
CREATED:20250923T164606Z
LAST-MODIFIED:20250923T170413Z
UID:10015328-1820998800-1821002400@oups.org
SUMMARY:Central Ohio Damage Prevention Council
DESCRIPTION:
URL:https://oups.org/event/central-ohio-damage-prevention-council-2020-05-20-2/2027-09-15/
LOCATION:The Builders Exchange\, 1175 Dublin Rd\, Columbus\, OH\, 43215\, United States
CATEGORIES:Damage Prevention Council
END:VEVENT
BEGIN:VEVENT
DTSTART;TZID=UTC:20271020T090000
DTEND;TZID=UTC:20271020T100000
DTSTAMP:20260425T025738
CREATED:20250923T164606Z
LAST-MODIFIED:20250923T170413Z
UID:10015329-1824022800-1824026400@oups.org
SUMMARY:Central Ohio Damage Prevention Council
DESCRIPTION:
URL:https://oups.org/event/central-ohio-damage-prevention-council-2020-05-20-2/2027-10-20/
LOCATION:The Builders Exchange\, 1175 Dublin Rd\, Columbus\, OH\, 43215\, United States
CATEGORIES:Damage Prevention Council
END:VEVENT
BEGIN:VEVENT
DTSTART;TZID=UTC:20271117T090000
DTEND;TZID=UTC:20271117T100000
DTSTAMP:20260425T025738
CREATED:20250923T164606Z
LAST-MODIFIED:20250923T170413Z
UID:10015330-1826442000-1826445600@oups.org
SUMMARY:Central Ohio Damage Prevention Council
DESCRIPTION:
URL:https://oups.org/event/central-ohio-damage-prevention-council-2020-05-20-2/2027-11-17/
LOCATION:The Builders Exchange\, 1175 Dublin Rd\, Columbus\, OH\, 43215\, United States
CATEGORIES:Damage Prevention Council
END:VEVENT
BEGIN:VEVENT
DTSTART;TZID=UTC:20271215T090000
DTEND;TZID=UTC:20271215T100000
DTSTAMP:20260425T025738
CREATED:20250923T164606Z
LAST-MODIFIED:20250923T170413Z
UID:10015331-1828861200-1828864800@oups.org
SUMMARY:Central Ohio Damage Prevention Council
DESCRIPTION:
URL:https://oups.org/event/central-ohio-damage-prevention-council-2020-05-20-2/2027-12-15/
LOCATION:The Builders Exchange\, 1175 Dublin Rd\, Columbus\, OH\, 43215\, United States
CATEGORIES:Damage Prevention Council
END:VEVENT
BEGIN:VEVENT
DTSTART;TZID=UTC:20280119T090000
DTEND;TZID=UTC:20280119T100000
DTSTAMP:20260425T025738
CREATED:20250923T164606Z
LAST-MODIFIED:20250923T170413Z
UID:10015332-1831885200-1831888800@oups.org
SUMMARY:Central Ohio Damage Prevention Council
DESCRIPTION:
URL:https://oups.org/event/central-ohio-damage-prevention-council-2020-05-20-2/2028-01-19/
LOCATION:The Builders Exchange\, 1175 Dublin Rd\, Columbus\, OH\, 43215\, United States
CATEGORIES:Damage Prevention Council
END:VEVENT
BEGIN:VEVENT
DTSTART;TZID=UTC:20280216T090000
DTEND;TZID=UTC:20280216T100000
DTSTAMP:20260425T025738
CREATED:20250923T164606Z
LAST-MODIFIED:20250923T170413Z
UID:10015333-1834304400-1834308000@oups.org
SUMMARY:Central Ohio Damage Prevention Council
DESCRIPTION:
URL:https://oups.org/event/central-ohio-damage-prevention-council-2020-05-20-2/2028-02-16/
LOCATION:The Builders Exchange\, 1175 Dublin Rd\, Columbus\, OH\, 43215\, United States
CATEGORIES:Damage Prevention Council
END:VEVENT
BEGIN:VEVENT
DTSTART;TZID=UTC:20280315T090000
DTEND;TZID=UTC:20280315T100000
DTSTAMP:20260425T025738
CREATED:20250923T164606Z
LAST-MODIFIED:20250923T170413Z
UID:10015334-1836723600-1836727200@oups.org
SUMMARY:Central Ohio Damage Prevention Council
DESCRIPTION:
URL:https://oups.org/event/central-ohio-damage-prevention-council-2020-05-20-2/2028-03-15/
LOCATION:The Builders Exchange\, 1175 Dublin Rd\, Columbus\, OH\, 43215\, United States
CATEGORIES:Damage Prevention Council
END:VEVENT
BEGIN:VEVENT
DTSTART;TZID=UTC:20280419T090000
DTEND;TZID=UTC:20280419T100000
DTSTAMP:20260425T025738
CREATED:20250923T164606Z
LAST-MODIFIED:20250923T170413Z
UID:10015335-1839747600-1839751200@oups.org
SUMMARY:Central Ohio Damage Prevention Council
DESCRIPTION:
URL:https://oups.org/event/central-ohio-damage-prevention-council-2020-05-20-2/2028-04-19/
LOCATION:The Builders Exchange\, 1175 Dublin Rd\, Columbus\, OH\, 43215\, United States
CATEGORIES:Damage Prevention Council
END:VEVENT
BEGIN:VEVENT
DTSTART;TZID=UTC:20280517T090000
DTEND;TZID=UTC:20280517T100000
DTSTAMP:20260425T025738
CREATED:20250923T164606Z
LAST-MODIFIED:20250923T170413Z
UID:10015336-1842166800-1842170400@oups.org
SUMMARY:Central Ohio Damage Prevention Council
DESCRIPTION:
URL:https://oups.org/event/central-ohio-damage-prevention-council-2020-05-20-2/2028-05-17/
LOCATION:The Builders Exchange\, 1175 Dublin Rd\, Columbus\, OH\, 43215\, United States
CATEGORIES:Damage Prevention Council
END:VEVENT
BEGIN:VEVENT
DTSTART;TZID=UTC:20280621T090000
DTEND;TZID=UTC:20280621T100000
DTSTAMP:20260425T025738
CREATED:20250923T164606Z
LAST-MODIFIED:20250923T170413Z
UID:10015337-1845190800-1845194400@oups.org
SUMMARY:Central Ohio Damage Prevention Council
DESCRIPTION:
URL:https://oups.org/event/central-ohio-damage-prevention-council-2020-05-20-2/2028-06-21/
LOCATION:The Builders Exchange\, 1175 Dublin Rd\, Columbus\, OH\, 43215\, United States
CATEGORIES:Damage Prevention Council
END:VEVENT
BEGIN:VEVENT
DTSTART;TZID=UTC:20280719T090000
DTEND;TZID=UTC:20280719T100000
DTSTAMP:20260425T025738
CREATED:20250923T164606Z
LAST-MODIFIED:20250923T170413Z
UID:10015338-1847610000-1847613600@oups.org
SUMMARY:Central Ohio Damage Prevention Council
DESCRIPTION:
URL:https://oups.org/event/central-ohio-damage-prevention-council-2020-05-20-2/2028-07-19/
LOCATION:The Builders Exchange\, 1175 Dublin Rd\, Columbus\, OH\, 43215\, United States
CATEGORIES:Damage Prevention Council
END:VEVENT
BEGIN:VEVENT
DTSTART;TZID=UTC:20280816T090000
DTEND;TZID=UTC:20280816T100000
DTSTAMP:20260425T025738
CREATED:20250923T164606Z
LAST-MODIFIED:20250923T170413Z
UID:10015339-1850029200-1850032800@oups.org
SUMMARY:Central Ohio Damage Prevention Council
DESCRIPTION:
URL:https://oups.org/event/central-ohio-damage-prevention-council-2020-05-20-2/2028-08-16/
LOCATION:The Builders Exchange\, 1175 Dublin Rd\, Columbus\, OH\, 43215\, United States
CATEGORIES:Damage Prevention Council
END:VEVENT
BEGIN:VEVENT
DTSTART;TZID=UTC:20280920T090000
DTEND;TZID=UTC:20280920T100000
DTSTAMP:20260425T025738
CREATED:20250923T164606Z
LAST-MODIFIED:20250923T170413Z
UID:10015340-1853053200-1853056800@oups.org
SUMMARY:Central Ohio Damage Prevention Council
DESCRIPTION:
URL:https://oups.org/event/central-ohio-damage-prevention-council-2020-05-20-2/2028-09-20/
LOCATION:The Builders Exchange\, 1175 Dublin Rd\, Columbus\, OH\, 43215\, United States
CATEGORIES:Damage Prevention Council
END:VEVENT
BEGIN:VEVENT
DTSTART;TZID=UTC:20281018T090000
DTEND;TZID=UTC:20281018T100000
DTSTAMP:20260425T025738
CREATED:20250923T164606Z
LAST-MODIFIED:20250923T170413Z
UID:10015341-1855472400-1855476000@oups.org
SUMMARY:Central Ohio Damage Prevention Council
DESCRIPTION:
URL:https://oups.org/event/central-ohio-damage-prevention-council-2020-05-20-2/2028-10-18/
LOCATION:The Builders Exchange\, 1175 Dublin Rd\, Columbus\, OH\, 43215\, United States
CATEGORIES:Damage Prevention Council
END:VEVENT
BEGIN:VEVENT
DTSTART;TZID=UTC:20281115T090000
DTEND;TZID=UTC:20281115T100000
DTSTAMP:20260425T025738
CREATED:20250923T164606Z
LAST-MODIFIED:20250923T170413Z
UID:10015342-1857891600-1857895200@oups.org
SUMMARY:Central Ohio Damage Prevention Council
DESCRIPTION:
URL:https://oups.org/event/central-ohio-damage-prevention-council-2020-05-20-2/2028-11-15/
LOCATION:The Builders Exchange\, 1175 Dublin Rd\, Columbus\, OH\, 43215\, United States
CATEGORIES:Damage Prevention Council
END:VEVENT
BEGIN:VEVENT
DTSTART;TZID=UTC:20281220T090000
DTEND;TZID=UTC:20281220T100000
DTSTAMP:20260425T025738
CREATED:20250923T164606Z
LAST-MODIFIED:20250923T170413Z
UID:10015343-1860915600-1860919200@oups.org
SUMMARY:Central Ohio Damage Prevention Council
DESCRIPTION:
URL:https://oups.org/event/central-ohio-damage-prevention-council-2020-05-20-2/2028-12-20/
LOCATION:The Builders Exchange\, 1175 Dublin Rd\, Columbus\, OH\, 43215\, United States
CATEGORIES:Damage Prevention Council
END:VEVENT
BEGIN:VEVENT
DTSTART;TZID=UTC:20290117T090000
DTEND;TZID=UTC:20290117T100000
DTSTAMP:20260425T025738
CREATED:20250923T164606Z
LAST-MODIFIED:20250923T170413Z
UID:10015344-1863334800-1863338400@oups.org
SUMMARY:Central Ohio Damage Prevention Council
DESCRIPTION:
URL:https://oups.org/event/central-ohio-damage-prevention-council-2020-05-20-2/2029-01-17/
LOCATION:The Builders Exchange\, 1175 Dublin Rd\, Columbus\, OH\, 43215\, United States
CATEGORIES:Damage Prevention Council
END:VEVENT
BEGIN:VEVENT
DTSTART;TZID=UTC:20290221T090000
DTEND;TZID=UTC:20290221T100000
DTSTAMP:20260425T025738
CREATED:20250923T164606Z
LAST-MODIFIED:20250923T170413Z
UID:10015345-1866358800-1866362400@oups.org
SUMMARY:Central Ohio Damage Prevention Council
DESCRIPTION:
URL:https://oups.org/event/central-ohio-damage-prevention-council-2020-05-20-2/2029-02-21/
LOCATION:The Builders Exchange\, 1175 Dublin Rd\, Columbus\, OH\, 43215\, United States
CATEGORIES:Damage Prevention Council
END:VEVENT
BEGIN:VEVENT
DTSTART;TZID=UTC:20290321T090000
DTEND;TZID=UTC:20290321T100000
DTSTAMP:20260425T025738
CREATED:20250923T164606Z
LAST-MODIFIED:20250923T170413Z
UID:10015346-1868778000-1868781600@oups.org
SUMMARY:Central Ohio Damage Prevention Council
DESCRIPTION:
URL:https://oups.org/event/central-ohio-damage-prevention-council-2020-05-20-2/2029-03-21/
LOCATION:The Builders Exchange\, 1175 Dublin Rd\, Columbus\, OH\, 43215\, United States
CATEGORIES:Damage Prevention Council
END:VEVENT
BEGIN:VEVENT
DTSTART;TZID=UTC:20290418T090000
DTEND;TZID=UTC:20290418T100000
DTSTAMP:20260425T025738
CREATED:20250923T164606Z
LAST-MODIFIED:20250923T170413Z
UID:10015347-1871197200-1871200800@oups.org
SUMMARY:Central Ohio Damage Prevention Council
DESCRIPTION:
URL:https://oups.org/event/central-ohio-damage-prevention-council-2020-05-20-2/2029-04-18/
LOCATION:The Builders Exchange\, 1175 Dublin Rd\, Columbus\, OH\, 43215\, United States
CATEGORIES:Damage Prevention Council
END:VEVENT
BEGIN:VEVENT
DTSTART;TZID=UTC:20290516T090000
DTEND;TZID=UTC:20290516T100000
DTSTAMP:20260425T025738
CREATED:20250923T164606Z
LAST-MODIFIED:20250923T170413Z
UID:10015348-1873616400-1873620000@oups.org
SUMMARY:Central Ohio Damage Prevention Council
DESCRIPTION:
URL:https://oups.org/event/central-ohio-damage-prevention-council-2020-05-20-2/2029-05-16/
LOCATION:The Builders Exchange\, 1175 Dublin Rd\, Columbus\, OH\, 43215\, United States
CATEGORIES:Damage Prevention Council
END:VEVENT
BEGIN:VEVENT
DTSTART;TZID=UTC:20290620T090000
DTEND;TZID=UTC:20290620T100000
DTSTAMP:20260425T025738
CREATED:20250923T164606Z
LAST-MODIFIED:20250923T170413Z
UID:10015349-1876640400-1876644000@oups.org
SUMMARY:Central Ohio Damage Prevention Council
DESCRIPTION:
URL:https://oups.org/event/central-ohio-damage-prevention-council-2020-05-20-2/2029-06-20/
LOCATION:The Builders Exchange\, 1175 Dublin Rd\, Columbus\, OH\, 43215\, United States
CATEGORIES:Damage Prevention Council
END:VEVENT
BEGIN:VEVENT
DTSTART;TZID=UTC:20290718T090000
DTEND;TZID=UTC:20290718T100000
DTSTAMP:20260425T025738
CREATED:20250923T164606Z
LAST-MODIFIED:20250923T170413Z
UID:10015350-1879059600-1879063200@oups.org
SUMMARY:Central Ohio Damage Prevention Council
DESCRIPTION:
URL:https://oups.org/event/central-ohio-damage-prevention-council-2020-05-20-2/2029-07-18/
LOCATION:The Builders Exchange\, 1175 Dublin Rd\, Columbus\, OH\, 43215\, United States
CATEGORIES:Damage Prevention Council
END:VEVENT
BEGIN:VEVENT
DTSTART;TZID=UTC:20290815T090000
DTEND;TZID=UTC:20290815T100000
DTSTAMP:20260425T025738
CREATED:20250923T164606Z
LAST-MODIFIED:20250923T170413Z
UID:10015351-1881478800-1881482400@oups.org
SUMMARY:Central Ohio Damage Prevention Council
DESCRIPTION:
URL:https://oups.org/event/central-ohio-damage-prevention-council-2020-05-20-2/2029-08-15/
LOCATION:The Builders Exchange\, 1175 Dublin Rd\, Columbus\, OH\, 43215\, United States
CATEGORIES:Damage Prevention Council
END:VEVENT
BEGIN:VEVENT
DTSTART;TZID=UTC:20290919T090000
DTEND;TZID=UTC:20290919T100000
DTSTAMP:20260425T025738
CREATED:20250923T164606Z
LAST-MODIFIED:20250923T170413Z
UID:10015352-1884502800-1884506400@oups.org
SUMMARY:Central Ohio Damage Prevention Council
DESCRIPTION:
URL:https://oups.org/event/central-ohio-damage-prevention-council-2020-05-20-2/2029-09-19/
LOCATION:The Builders Exchange\, 1175 Dublin Rd\, Columbus\, OH\, 43215\, United States
CATEGORIES:Damage Prevention Council
END:VEVENT
BEGIN:VEVENT
DTSTART;TZID=UTC:20291017T090000
DTEND;TZID=UTC:20291017T100000
DTSTAMP:20260425T025738
CREATED:20250923T164606Z
LAST-MODIFIED:20250923T170413Z
UID:10015353-1886922000-1886925600@oups.org
SUMMARY:Central Ohio Damage Prevention Council
DESCRIPTION:
URL:https://oups.org/event/central-ohio-damage-prevention-council-2020-05-20-2/2029-10-17/
LOCATION:The Builders Exchange\, 1175 Dublin Rd\, Columbus\, OH\, 43215\, United States
CATEGORIES:Damage Prevention Council
END:VEVENT
END:VCALENDAR