BEGIN:VCALENDAR
VERSION:2.0
PRODID:-//OHIO811 | Call 811 Before You Dig | OHIO811 - ECPv6.15.20//NONSGML v1.0//EN
CALSCALE:GREGORIAN
METHOD:PUBLISH
X-ORIGINAL-URL:https://oups.org
X-WR-CALDESC:Events for OHIO811 | Call 811 Before You Dig | OHIO811
REFRESH-INTERVAL;VALUE=DURATION:PT1H
X-Robots-Tag:noindex
X-PUBLISHED-TTL:PT1H
BEGIN:VTIMEZONE
TZID:UTC
BEGIN:STANDARD
TZOFFSETFROM:+0000
TZOFFSETTO:+0000
TZNAME:UTC
DTSTART:20240101T000000
END:STANDARD
END:VTIMEZONE
BEGIN:VEVENT
DTSTART;TZID=UTC:20250402T110000
DTEND;TZID=UTC:20250402T130000
DTSTAMP:20260421T090423
CREATED:20250326T184621Z
LAST-MODIFIED:20250326T184621Z
UID:10001681-1743591600-1743598800@oups.org
SUMMARY:April Safe Digging Event
DESCRIPTION:The NODPC and Tri-C’s Advanced Technology Training Center are collaborating to build a community flower bouquet garden with raised flower beds\, a commemorative plaque\, and media coverage to promote safe digging in Ohio. \nLight refreshments will be provided by Tri-C and OHIO811. \nIf there is inclement weather\, the event will be rescheduled to Wednesday\, April 9th\, or Wednesday\, April 16th\, at the same times. \nAll members of the NODPC as well as partners from their organizations are welcome to attend! \n 
URL:https://oups.org/event/april-safe-digging-event/
LOCATION:Advanced Technology Training Center\, 3409 Woodland Ave\, Cleveland\, OH\, 44115\, United States
CATEGORIES:April Safe Digging Month
ORGANIZER;CN="Chuck Green":MAILTO:chuckg@oups.org
END:VEVENT
END:VCALENDAR