BEGIN:VCALENDAR
VERSION:2.0
PRODID:-//OHIO811 | Call 811 Before You Dig | OHIO811 - ECPv6.15.20//NONSGML v1.0//EN
CALSCALE:GREGORIAN
METHOD:PUBLISH
X-WR-CALNAME:OHIO811 | Call 811 Before You Dig | OHIO811
X-ORIGINAL-URL:https://oups.org
X-WR-CALDESC:Events for OHIO811 | Call 811 Before You Dig | OHIO811
REFRESH-INTERVAL;VALUE=DURATION:PT1H
X-Robots-Tag:noindex
X-PUBLISHED-TTL:PT1H
BEGIN:VTIMEZONE
TZID:UTC
BEGIN:STANDARD
TZOFFSETFROM:+0000
TZOFFSETTO:+0000
TZNAME:UTC
DTSTART:20240101T000000
END:STANDARD
END:VTIMEZONE
BEGIN:VEVENT
DTSTART;TZID=UTC:20260203T090000
DTEND;TZID=UTC:20260203T100000
DTSTAMP:20260425T201340
CREATED:20200228T193309Z
LAST-MODIFIED:20200318T143155Z
UID:10001148-1770109200-1770112800@oups.org
SUMMARY:Southeast Ohio Utility Coordinating Council
DESCRIPTION:
URL:https://oups.org/event/southeast-ohio-utility-coordinating-council/2026-02-03/
LOCATION:Washington Electric Cooperative\, 440 Highland Ridge Rd\, Marietta\, OH\, 45750\, United States
CATEGORIES:Utility Coordinating Council
ORGANIZER;CN="Matt Hennis":MAILTO:matth@oups.org
END:VEVENT
BEGIN:VEVENT
DTSTART;TZID=UTC:20251104T090000
DTEND;TZID=UTC:20251104T100000
DTSTAMP:20260425T201340
CREATED:20200228T193309Z
LAST-MODIFIED:20200318T143155Z
UID:10001147-1762246800-1762250400@oups.org
SUMMARY:Southeast Ohio Utility Coordinating Council
DESCRIPTION:
URL:https://oups.org/event/southeast-ohio-utility-coordinating-council/2025-11-04/
LOCATION:Washington Electric Cooperative\, 440 Highland Ridge Rd\, Marietta\, OH\, 45750\, United States
CATEGORIES:Utility Coordinating Council
ORGANIZER;CN="Matt Hennis":MAILTO:matth@oups.org
END:VEVENT
BEGIN:VEVENT
DTSTART;TZID=UTC:20250805T090000
DTEND;TZID=UTC:20250805T100000
DTSTAMP:20260425T201340
CREATED:20200228T193309Z
LAST-MODIFIED:20200318T143155Z
UID:10001146-1754384400-1754388000@oups.org
SUMMARY:Southeast Ohio Utility Coordinating Council
DESCRIPTION:
URL:https://oups.org/event/southeast-ohio-utility-coordinating-council/2025-08-05/
LOCATION:Washington Electric Cooperative\, 440 Highland Ridge Rd\, Marietta\, OH\, 45750\, United States
CATEGORIES:Utility Coordinating Council
ORGANIZER;CN="Matt Hennis":MAILTO:matth@oups.org
END:VEVENT
BEGIN:VEVENT
DTSTART;TZID=UTC:20250506T090000
DTEND;TZID=UTC:20250506T100000
DTSTAMP:20260425T201340
CREATED:20200228T193309Z
LAST-MODIFIED:20200318T143155Z
UID:10001145-1746522000-1746525600@oups.org
SUMMARY:Southeast Ohio Utility Coordinating Council
DESCRIPTION:
URL:https://oups.org/event/southeast-ohio-utility-coordinating-council/2025-05-06/
LOCATION:Washington Electric Cooperative\, 440 Highland Ridge Rd\, Marietta\, OH\, 45750\, United States
CATEGORIES:Utility Coordinating Council
ORGANIZER;CN="Matt Hennis":MAILTO:matth@oups.org
END:VEVENT
END:VCALENDAR