BEGIN:VCALENDAR
VERSION:2.0
PRODID:-//OHIO811 | Call 811 Before You Dig | OHIO811 - ECPv6.15.20//NONSGML v1.0//EN
CALSCALE:GREGORIAN
METHOD:PUBLISH
X-WR-CALNAME:OHIO811 | Call 811 Before You Dig | OHIO811
X-ORIGINAL-URL:https://oups.org
X-WR-CALDESC:Events for OHIO811 | Call 811 Before You Dig | OHIO811
REFRESH-INTERVAL;VALUE=DURATION:PT1H
X-Robots-Tag:noindex
X-PUBLISHED-TTL:PT1H
BEGIN:VTIMEZONE
TZID:UTC
BEGIN:STANDARD
TZOFFSETFROM:+0000
TZOFFSETTO:+0000
TZNAME:UTC
DTSTART:20280101T000000
END:STANDARD
END:VTIMEZONE
BEGIN:VEVENT
DTSTART;TZID=UTC:20290501T090000
DTEND;TZID=UTC:20290501T100000
DTSTAMP:20260425T201959
CREATED:20200228T193309Z
LAST-MODIFIED:20200318T143155Z
UID:10001435-1872320400-1872324000@oups.org
SUMMARY:Southeast Ohio Utility Coordinating Council
DESCRIPTION:
URL:https://oups.org/event/southeast-ohio-utility-coordinating-council/2029-05-01/
LOCATION:Washington Electric Cooperative\, 440 Highland Ridge Rd\, Marietta\, OH\, 45750\, United States
CATEGORIES:Utility Coordinating Council
ORGANIZER;CN="Matt Hennis":MAILTO:matth@oups.org
END:VEVENT
BEGIN:VEVENT
DTSTART;TZID=UTC:20290807T090000
DTEND;TZID=UTC:20290807T100000
DTSTAMP:20260425T202000
CREATED:20200228T193309Z
LAST-MODIFIED:20200318T143155Z
UID:10001519-1880787600-1880791200@oups.org
SUMMARY:Southeast Ohio Utility Coordinating Council
DESCRIPTION:
URL:https://oups.org/event/southeast-ohio-utility-coordinating-council/2029-08-07/
LOCATION:Washington Electric Cooperative\, 440 Highland Ridge Rd\, Marietta\, OH\, 45750\, United States
CATEGORIES:Utility Coordinating Council
ORGANIZER;CN="Matt Hennis":MAILTO:matth@oups.org
END:VEVENT
BEGIN:VEVENT
DTSTART;TZID=UTC:20291106T090000
DTEND;TZID=UTC:20291106T100000
DTSTAMP:20260425T202000
CREATED:20200228T193309Z
LAST-MODIFIED:20200318T143155Z
UID:10001520-1888650000-1888653600@oups.org
SUMMARY:Southeast Ohio Utility Coordinating Council
DESCRIPTION:
URL:https://oups.org/event/southeast-ohio-utility-coordinating-council/2029-11-06/
LOCATION:Washington Electric Cooperative\, 440 Highland Ridge Rd\, Marietta\, OH\, 45750\, United States
CATEGORIES:Utility Coordinating Council
ORGANIZER;CN="Matt Hennis":MAILTO:matth@oups.org
END:VEVENT
BEGIN:VEVENT
DTSTART;TZID=UTC:20300205T090000
DTEND;TZID=UTC:20300205T100000
DTSTAMP:20260425T202000
CREATED:20200228T193309Z
LAST-MODIFIED:20200318T143155Z
UID:10001660-1896512400-1896516000@oups.org
SUMMARY:Southeast Ohio Utility Coordinating Council
DESCRIPTION:
URL:https://oups.org/event/southeast-ohio-utility-coordinating-council/2030-02-05/
LOCATION:Washington Electric Cooperative\, 440 Highland Ridge Rd\, Marietta\, OH\, 45750\, United States
CATEGORIES:Utility Coordinating Council
ORGANIZER;CN="Matt Hennis":MAILTO:matth@oups.org
END:VEVENT
BEGIN:VEVENT
DTSTART;TZID=UTC:20300507T090000
DTEND;TZID=UTC:20300507T100000
DTSTAMP:20260425T202000
CREATED:20200228T193309Z
LAST-MODIFIED:20200318T143155Z
UID:10001697-1904374800-1904378400@oups.org
SUMMARY:Southeast Ohio Utility Coordinating Council
DESCRIPTION:
URL:https://oups.org/event/southeast-ohio-utility-coordinating-council/2030-05-07/
LOCATION:Washington Electric Cooperative\, 440 Highland Ridge Rd\, Marietta\, OH\, 45750\, United States
CATEGORIES:Utility Coordinating Council
ORGANIZER;CN="Matt Hennis":MAILTO:matth@oups.org
END:VEVENT
BEGIN:VEVENT
DTSTART;TZID=UTC:20300806T090000
DTEND;TZID=UTC:20300806T100000
DTSTAMP:20260425T202000
CREATED:20200228T193309Z
LAST-MODIFIED:20200318T143155Z
UID:10015232-1912237200-1912240800@oups.org
SUMMARY:Southeast Ohio Utility Coordinating Council
DESCRIPTION:
URL:https://oups.org/event/southeast-ohio-utility-coordinating-council/2030-08-06/
LOCATION:Washington Electric Cooperative\, 440 Highland Ridge Rd\, Marietta\, OH\, 45750\, United States
CATEGORIES:Utility Coordinating Council
ORGANIZER;CN="Matt Hennis":MAILTO:matth@oups.org
END:VEVENT
BEGIN:VEVENT
DTSTART;TZID=UTC:20301105T090000
DTEND;TZID=UTC:20301105T100000
DTSTAMP:20260425T202000
CREATED:20200228T193309Z
LAST-MODIFIED:20200318T143155Z
UID:10015381-1920099600-1920103200@oups.org
SUMMARY:Southeast Ohio Utility Coordinating Council
DESCRIPTION:
URL:https://oups.org/event/southeast-ohio-utility-coordinating-council/2030-11-05/
LOCATION:Washington Electric Cooperative\, 440 Highland Ridge Rd\, Marietta\, OH\, 45750\, United States
CATEGORIES:Utility Coordinating Council
ORGANIZER;CN="Matt Hennis":MAILTO:matth@oups.org
END:VEVENT
BEGIN:VEVENT
DTSTART;TZID=UTC:20310204T090000
DTEND;TZID=UTC:20310204T100000
DTSTAMP:20260425T202000
CREATED:20200228T193309Z
LAST-MODIFIED:20200318T143155Z
UID:10015415-1927962000-1927965600@oups.org
SUMMARY:Southeast Ohio Utility Coordinating Council
DESCRIPTION:
URL:https://oups.org/event/southeast-ohio-utility-coordinating-council/2031-02-04/
LOCATION:Washington Electric Cooperative\, 440 Highland Ridge Rd\, Marietta\, OH\, 45750\, United States
CATEGORIES:Utility Coordinating Council
ORGANIZER;CN="Matt Hennis":MAILTO:matth@oups.org
END:VEVENT
END:VCALENDAR